BEGIN:VCALENDAR
VERSION:2.0
PRODID:-//events.getlocalhop.com//localhop-calendar//EN
URL:https://api.getlocalhop.com/calendar?instance=mPSTM1iFMA&series=false
BEGIN:VEVENT
UID:event-instance-mPSTM1iFMA@events.getlocalhop.com
SEQUENCE:0
DTSTAMP:20260421T024905Z
DTSTART:20241024T220000Z
DTEND:20241025T000000Z
SUMMARY:Lego Night for Grown Ups at Iron Fish Distillery
LOCATION:Iron Fish Distillery\, 14234 Dzuibanek Rd Thompsonville\, MI 4968
 3
DESCRIPTION:<p>The library is teaming up with Iron Fish Distillery in Thom
 psonville to bring you Lego Night for Grown Ups from 6-8 pm.</p>\n<p>The l
 ibrary team will lend out Lego kits for you to build during the event.</p>
 \n<p>Iron Fish's kitchen and bar will be open for those wishing to purchas
 e a meal or an adult beverage.</p>\n<p>This free event is intended for adu
 lts age 21 and over. Drinks not included. RESERVATIONS REQUIRED.&nbsp\;</p
 >\n<p>RSVP here on our website.&nbsp\;</p>
URL;VALUE=URI:https://events.getlocalhop.com/lego-night-for-grown-ups-at-i
 ron-fish-distillery/event/OcikKUOvwh/
END:VEVENT
END:VCALENDAR