BEGIN:VCALENDAR
VERSION:2.0
PRODID:-//events.getlocalhop.com//localhop-calendar//EN
URL:https://api.getlocalhop.com/calendar?instance=lwNt9Br1EB&series=false
BEGIN:VEVENT
UID:event-instance-lwNt9Br1EB@events.getlocalhop.com
SEQUENCE:0
DTSTAMP:20260421T172418Z
DTSTART:20230923T220000Z
DTEND:20230924T020000Z
SUMMARY:Orange Lake Drive Concert
LOCATION:The PLAT\, 47 North Saginaw Street Pontiac\, MI 48342
DESCRIPTION:<p>Come enjoy an evening of live music at the PLAT!&nbsp\;</p>
URL;VALUE=URI:https://events.getlocalhop.com/orange-lake-drive-concert/eve
 nt/5xaXRrMAkM/
END:VEVENT
END:VCALENDAR