BEGIN:VCALENDAR
VERSION:2.0
PRODID:-//events.getlocalhop.com//localhop-calendar//EN
URL:https://api.getlocalhop.com/calendar?instance=lnRKZbUMav&series=false
BEGIN:VEVENT
UID:event-instance-lnRKZbUMav@events.getlocalhop.com
SEQUENCE:0
DTSTAMP:20260424T224000Z
DTSTART:20250927T140000Z
DTEND:20250928T000000Z
SUMMARY:Balkan House
LOCATION:Balkan House\, 314 West Nine Mile Ferndale\, MI 48220
DESCRIPTION:<p>Receive 10% off your full order (in person) at <a href=\"ht
 tps://www.thebalkanhouse.com/\">Balkan House</a> on September 27th\, 2025.
 &nbsp\;&nbsp\;<br /><br /><strong>Great way to celebrate Downtown Ferndale
 !</strong></p>
URL;VALUE=URI:https://events.getlocalhop.com/balkan-house/event/IufdMCuA1M
 /
END:VEVENT
END:VCALENDAR