BEGIN:VCALENDAR
VERSION:2.0
PRODID:-//events.getlocalhop.com//localhop-calendar//EN
URL:https://api.getlocalhop.com/calendar?instance=lkiLMmC8rM&series=false
BEGIN:VEVENT
UID:event-instance-lkiLMmC8rM@events.getlocalhop.com
SEQUENCE:0
DTSTAMP:20260420T012212Z
DTSTART:20260504T220000Z
DTEND:20260504T230000Z
SUMMARY:OUCARES-Presentations On Autism For Adults
LOCATION:Pontiac Public Library\, 60 East Pike Street Pontiac\, MI 48342\,
  Auditorium
DESCRIPTION:<p><strong>Mondays\, 05/04\, 06/08\, 6-7pm\, Auditorium:</stro
 ng> Join staff at Joanne and Ted Lindsay Foundation Autism Outreach Servic
 es (OUCARES) to learn more about Autism Spectrum Disorder (ASD) and to lea
 rn more about providing support for your loved one with autism. The schedu
 le follows below. Registration is required!<br /><strong>05/04: What Is Au
 tism: </strong>This presentation is about Autism Spectrum Disorder (ASD). 
 This event will discuss common presentations of ASD\, information about AS
 D diagnostics\, community resources\, and self advocacy. This event is gea
 red towards parents\, caregivers\, professionals\, and other interested ad
 ults.&nbsp\;<br /><strong>06/08: Supporting My Child With Autism:</strong>
  This presentation is about providing support for your loved one with auti
 sm. This event will discuss common therapies\, interventions\, and communi
 ty programs that could greatly benefit your child\, whether your loved one
  is very young or an adult. This event is geared towards parents and careg
 ivers.</p>
URL;VALUE=URI:https://events.getlocalhop.com/oucarespresentations-on-autis
 m-for-adults/event/gcDX2z8WgP/
END:VEVENT
END:VCALENDAR