BEGIN:VCALENDAR
VERSION:2.0
PRODID:-//events.getlocalhop.com//localhop-calendar//EN
URL:https://api.getlocalhop.com/calendar?instance=lXpdVVruuA&series=false
BEGIN:VEVENT
UID:event-instance-lXpdVVruuA@events.getlocalhop.com
SEQUENCE:0
DTSTAMP:20260423T120600Z
DTSTART:20220819T143000Z
DTEND:20220819T153000Z
SUMMARY:Hands-On Rhythm & Rhyme Storytime!
LOCATION:Walled Lake City Library\, 1499 E. West Maple Rd. Walled Lake\, M
 I 48390
DESCRIPTION:<p>Sing and play songs\, read stories\, and move your body to 
 the beat while Miss Mollie leads you through this hands-on Musical Storyti
 me! Participants will get to play with some of the various instruments tha
 t the Library has to offer.</p>\n<p>Toddlers\, preschoolers\, and their ca
 regivers are encouraged to attend.</p>\n<p><strong>Storytimes on the 3rd W
 ednesday will be help at the Walled Lake Farmer's Market</strong></p>\n<p>
 &nbsp\;</p>\n<p>*Funding for musical instruments was provided by the LSTA 
 Public Library Service Grant Program*</p>
URL;VALUE=URI:https://events.getlocalhop.com/handson-rhythm-and-rhyme-stor
 ytime/event/ECaLazzeDz/
END:VEVENT
END:VCALENDAR