BEGIN:VCALENDAR
VERSION:2.0
PRODID:-//events.getlocalhop.com//localhop-calendar//EN
URL:https://api.getlocalhop.com/calendar?instance=lVsCQSQyR5&series=false
BEGIN:VEVENT
UID:event-instance-lVsCQSQyR5@events.getlocalhop.com
SEQUENCE:0
DTSTAMP:20260424T115045Z
DTSTART:20250320T230000Z
DTEND:20250320T234500Z
SUMMARY:Radio Show - North Channel
LOCATION:North Channel Brewing Company\, 86 Washington Street Manistee\, M
 I 49660
DESCRIPTION:<p>Join us at North Channel Brewing Company for a parody soap-
 opera radio play &ldquo\;A Novel Romance.&rdquo\; &nbsp\;</p>\n<p>Performe
 d by members of the Manistee Civic Players\, this event is free and intend
 ed for adults.&nbsp\;</p>\n<p>RSVP required.&nbsp\;</p>
URL;VALUE=URI:https://events.getlocalhop.com/radio-show-north-channel/even
 t/eDI6nfCDHY/
END:VEVENT
END:VCALENDAR