BEGIN:VCALENDAR
VERSION:2.0
PRODID:-//events.getlocalhop.com//localhop-calendar//EN
URL:https://api.getlocalhop.com/calendar?instance=l13FItq4C2&series=false
BEGIN:VEVENT
UID:event-instance-l13FItq4C2@events.getlocalhop.com
SEQUENCE:0
DTSTAMP:20260420T034406Z
DTSTART:20180926T130000Z
DTEND:20180926T160000Z
SUMMARY:Donate Used Books
LOCATION:840 W. Frank St Caro\, MI 48723
DESCRIPTION:The Friends will accept gently used\, not abused books. No enc
 yclopedias\, text books\, smelly\, moldy\, or dirty books.
URL;VALUE=URI:https://events.getlocalhop.com/donate-used-books/event/rAX3w
 Kt8qp/
END:VEVENT
END:VCALENDAR