BEGIN:VCALENDAR
VERSION:2.0
PRODID:-//events.getlocalhop.com//localhop-calendar//EN
URL:https://api.getlocalhop.com/calendar?instance=kpn2HJFQ2q&series=false
BEGIN:VEVENT
UID:event-instance-kpn2HJFQ2q@events.getlocalhop.com
SEQUENCE:0
DTSTAMP:20260426T034604Z
DTSTART:20230718T210000Z
DTEND:20230718T220000Z
SUMMARY:The Hungry\, Hungry Bookworm
LOCATION:Chesterfield Township Library\, 50560 Patricia Avenue Chesterfiel
 d\, MI 48051
DESCRIPTION:<p>Presented by River City Puppets. The librarian is on the hu
 nt for a story eating bookworm. Hilarious tales come to life as he strives
  to replace the stories before they&rsquo\;re all gone. Giant puppets\, mu
 sic\, and masterful storytelling come together to delight both the audienc
 e and one hungry bookworm.</p>
URL;VALUE=URI:https://events.getlocalhop.com/the-hungry-hungry-bookworm/ev
 ent/L1qYeRsz1K/
END:VEVENT
END:VCALENDAR