BEGIN:VCALENDAR
VERSION:2.0
PRODID:-//events.getlocalhop.com//localhop-calendar//EN
URL:https://api.getlocalhop.com/calendar?instance=kG8ne9B8ut&series=false
BEGIN:VEVENT
UID:event-instance-kG8ne9B8ut@events.getlocalhop.com
SEQUENCE:0
DTSTAMP:20260422T041227Z
DTSTART:20211109T153000Z
DTEND:20211109T160000Z
SUMMARY:Toddler Time
LOCATION:Sterling Heights Public Library\, 40255 Dodge Park Road Sterling 
 Heights\, MI 48313\, Programming Center
DESCRIPTION:Bring your toddler for a high-energy program that has singing\
 , dancing\, crafts\, and stories! This storytime is for ages 0-3  years ol
 d. \n\nThe 10:30 a.m. and 11:30 a.m. sessions are a repeat of the same con
 tent. Please register each child for only one storytime per day.
URL;VALUE=URI:https://events.getlocalhop.com/toddler-time/event/mxHCGVFXIm
 /
END:VEVENT
END:VCALENDAR