BEGIN:VCALENDAR
VERSION:2.0
PRODID:-//events.getlocalhop.com//localhop-calendar//EN
URL:https://api.getlocalhop.com/calendar?instance=jpkHrNGKzI&series=false
BEGIN:VEVENT
UID:event-instance-jpkHrNGKzI@events.getlocalhop.com
SEQUENCE:0
DTSTAMP:20260421T043555Z
DTSTART:20241019T150000Z
DTEND:20241019T170000Z
SUMMARY:Rattling the Bones: Genealogy
LOCATION:Manistee County Library\, 95 Maple Street Manistee\, MI 49660\, T
 op Floor Meeting Room
DESCRIPTION:<p>Always wondered about the skeletons in your family closet\,
  but weren&rsquo\;t sure how to begin? Have you come to a dead end on a br
 anch of the family tree and need a refresher?</p>\n<p>Join Alison and Kim 
 for a basic introduction to helpful records\, online resources\, and tips 
 for getting started on your search for your ancestors. Following the intro
 duction\, get started with your own genealogy research using the Library&r
 squo\;s computers and online resources\, with Alison and Kim providing one
 -on-one assistance as well as advice on particular issues or &ldquo\;brick
  walls&rdquo\;.</p>\n<p>Computers are available on location\, but feel fre
 e to bring your own device. RSVP required.&nbsp\;</p>\n<p>&nbsp\;</p>\n<p>
 &nbsp\;</p>
URL;VALUE=URI:https://events.getlocalhop.com/rattling-the-bones-genealogy/
 event/GjOLGXPqyC/
END:VEVENT
END:VCALENDAR