BEGIN:VCALENDAR
VERSION:2.0
PRODID:-//events.getlocalhop.com//localhop-calendar//EN
URL:https://api.getlocalhop.com/calendar?instance=jFAYvdvD7s&series=false
BEGIN:VEVENT
UID:event-instance-jFAYvdvD7s@events.getlocalhop.com
SEQUENCE:0
DTSTAMP:20260424T162211Z
DTSTART;VALUE=DATE:20190725
DTEND;VALUE=DATE:20190728
X-MICROSOFT-CDO-ALLDAYEVENT:TRUE
X-MICROSOFT-MSNCALENDAR-ALLDAYEVENT:TRUE
SUMMARY:Summer Sidewalk Sales Downtown Kalamazoo
LOCATION:Kalamazoo Mall\, 200 E Michigan ave kalamazoo\, MI 49007
DESCRIPTION:Outdoor Summer shopping event for the entire family.  Enjoy sa
 ving\, music\, and family fun along the Kalamazoo Mall\, Downtown Kalamazo
 o. A Family Fun Zone will offer and live music will add to the outdoor vib
 e while searching for that special deal!  Hours: Thursday and Saturday\, 1
 0am - 6pm\, Friday\, 10am - 6pm.  Please contact info@downtownkalamazoo.or
 g if you are interested in vendor information.
URL;VALUE=URI:https://events.getlocalhop.com/summer-sidewalk-sales-downtow
 n-kalamazoo/event/1VMj1W4FWI/
END:VEVENT
END:VCALENDAR