BEGIN:VCALENDAR
VERSION:2.0
PRODID:-//events.getlocalhop.com//localhop-calendar//EN
URL:https://api.getlocalhop.com/calendar?instance=jCUEUCHFYE&series=false
BEGIN:VEVENT
UID:event-instance-jCUEUCHFYE@events.getlocalhop.com
SEQUENCE:0
DTSTAMP:20260419T172455Z
DTSTART:20220609T230000Z
DTEND:20220610T000000Z
SUMMARY:Native Plants Workshop - Right Plant\, Right Place
LOCATION:Rogers City Library\, 181 E. Erie Street Rogers City\, MI 49779
DESCRIPTION:<p>Patricia Osburn\, District Manager with the Otsego Conserva
 tion District for over 27 years and created the Native Plant Nursery over 
 12 years ago\, will share her wisdom on how to landscape with native plant
 s in a variety of gardens including butterfly\, shade\, riparian\, pollina
 tor\, and rain gardens.&nbsp\; The program is free and will be at the Roge
 rs City Library\, Constance Jordan room on Thursday\, June 9th starting at
  7:00 pm.&nbsp\; Check out the Otsego Conservation District's website and 
 explore their many informative topics\, guidelines for seedling plantings\
 , Native Plants and their respective habitat guidelines\, etc. &nbsp\;http
 ://www.otsegocd.org/</p>\n<p>A great resource for valuable conservation re
 sources.&nbsp\;&nbsp\;</p>
URL;VALUE=URI:https://events.getlocalhop.com/native-plants-workshop-right-
 plant-right-place/event/FtwpGVpmO3/
END:VEVENT
END:VCALENDAR