BEGIN:VCALENDAR
VERSION:2.0
PRODID:-//events.getlocalhop.com//localhop-calendar//EN
URL:https://api.getlocalhop.com/calendar?instance=ixDTiRdau5&series=false
BEGIN:VEVENT
UID:event-instance-ixDTiRdau5@events.getlocalhop.com
SEQUENCE:0
DTSTAMP:20260424T103547Z
DTSTART:20241113T000000Z
DTEND:20241113T013000Z
SUMMARY:Lecture: The Assassination of President John F. Kennedy
LOCATION:Bloomfield Township Public Library\, 1099 Lone Pine Road Bloomfie
 ld Township\, MI 48302
DESCRIPTION:<p>On November 22\, 1963\, President John F. Kennedy was kille
 d in Dallas\, Texas. Lecturer Jay Hernandez brings a fact-based perspectiv
 e to the events surrounding this momentous day and discusses how recently 
 released classified documents shed new light. A 38-year public safety vete
 ran\, Jay bridges the gap between historical facts and real-world applicat
 ions for a unique perspective on the JFK assassination.</p>\n<p>&nbsp\;</p
 >\n<p><em>Open to all\; no registration is required.&nbsp\;</em></p>\n<p>&
 nbsp\;</p>\n<p>For more information\, contact the Adult and Teen Services 
 department by email at AskAdult@btpl.org or by calling 248.642.5800 and as
 king for the Adult and Teen Services desk. If you require additional accom
 modations\, please contact us at least 24 hours before the program date.</
 p>\n<p>&nbsp\;</p>\n<p>Thank you to the Friends of the Bloomfield Township
  Public Library for sponsoring this event.</p>
URL;VALUE=URI:https://events.getlocalhop.com/lecture-the-assassination-of-
 president-john-f-kennedy/event/2TiM5Ymjpl/
END:VEVENT
END:VCALENDAR