BEGIN:VCALENDAR
VERSION:2.0
PRODID:-//events.getlocalhop.com//localhop-calendar//EN
URL:https://api.getlocalhop.com/calendar?instance=igFXlM0WfS&series=false
BEGIN:VEVENT
UID:event-instance-igFXlM0WfS@events.getlocalhop.com
SEQUENCE:0
DTSTAMP:20260421T082452Z
DTSTART:20220203T233000Z
DTEND:20220204T003000Z
SUMMARY:Booked for the Evening:  The Warmth of Other Suns
LOCATION:Roseville Public Library\, 29777 Gratiot Avenue Roseville\, MI 48
 066
DESCRIPTION:Join us for a lively discussion of \"The Warmth of Other Suns:
  The Epic Story of America's Great Migration\" by Isabel Wilkerson.\n You 
 can join us in-person at the Library or connect with us virtually via Zoom
 . You are welcome to join us even if you have not read the book.
URL;VALUE=URI:https://events.getlocalhop.com/booked-for-the-evening-the-wa
 rmth-of-other-suns/event/l1htBCY5EY/
END:VEVENT
END:VCALENDAR