BEGIN:VCALENDAR
VERSION:2.0
PRODID:-//events.getlocalhop.com//localhop-calendar//EN
URL:https://api.getlocalhop.com/calendar?instance=iUzTXkcHAq&series=false
BEGIN:VEVENT
UID:event-instance-iUzTXkcHAq@events.getlocalhop.com
SEQUENCE:0
DTSTAMP:20260424T002455Z
DTSTART:20260227T003000Z
DTEND:20260227T013000Z
SUMMARY:Meet Oak Creek Author Christopher Roubique
LOCATION:Oak Creek Public Library\, 8040 S 6th St Oak Creek\, WI 53154\, M
 ulti-purpose Room
DESCRIPTION:<p>Meet Christopher Roubique\, debut author of the new <em>Myt
 hspeaker</em> children's book\, at this very special event brought to you 
 by <a href=\"https://boswellbooks.com/\" target=\"_blank\" rel=\"noopener\
 ">Boswell Books</a>. At this <strong>exclusive</strong> author talk\, you'
 ll get the chance to hear an excerpt read by Roubique himself as well as p
 articipate in a discussion about the importance of diverse characters &amp
 \; stories followed by a free signing. Books will be available for purchas
 e. Editor\, publisher\, and creative director extraordinaire Sue Weinlein 
 will also be joining in to provide a fun worldbuilding exercise.</p>\n<p>&
 nbsp\;</p>\n<p>Perfect for middle-grade readers ages 8-12 years\, <em>Myth
 speaker</em> will be published by <a href=\"https://www.penguin.com/viking
 -childrens-books-overview/\" target=\"_blank\" rel=\"noopener\">Viking Boo
 ks for Young Readers</a>\, a division of Penguin Random House\, just two d
 ays before this once in a lifetime event! Don't miss out on the opportunit
 y to show your support for an Oak Creek author coming into his own as a ta
 lented worldbuilder and character creator with a penchant for paying homag
 e to Indigenous mythology &amp\; magic.</p>\n<p>&nbsp\;</p>\n<p>&nbsp\;</p
 >\n<p><strong>More about <em>Mythspeaker</em>:</strong></p>\n<p>For fans o
 f <a href=\"https://oakcreek.countycat.mcfls.org/GroupedWork/083d5bc9-8e5f
 -34e4-356c-975baa9d2dca-eng/Home?searchId=19005756&amp\;recordIndex=1&amp\
 ;page=1&amp\;searchSource=local&amp\;referred=resultIndex\" target=\"_blan
 k\" rel=\"noopener\"><em>Race to the Sun</em></a> and the <a href=\"https:
 //oakcreek.countycat.mcfls.org/Search/Results?join=AND&amp\;bool0%5B%5D=AN
 D&amp\;lookfor0%5B0%5D=Aru+Shah&amp\;type0%5B0%5D=Title&amp\;lookfor0%5B1%
 5D=Roshani+Chokshi&amp\;type0%5B1%5D=Author&amp\;submit=Find&amp\;filter%5
 B%5D=&amp\;filter%5B%5D=&amp\;filter%5B%5D=&amp\;filter%5B%5D=&amp\;filter
 %5B%5D=&amp\;filter%5B%5D=&amp\;filter%5B%5D=&amp\;filter%5B%5D=&amp\;publ
 ishDateSortyearfrom=&amp\;publishDateSortyearto=&amp\;filter%5B%5D=&amp\;f
 ilter%5B%5D=&amp\;filter%5B%5D=&amp\;filter%5B%5D=&amp\;filter%5B%5D=&amp\
 ;lexile_scorefrom=&amp\;lexile_scoreto=&amp\;filter%5B%5D=&amp\;filter%5B%
 5D=&amp\;filter%5B%5D=\" target=\"_blank\" rel=\"noopener\">Aru Shah</a> s
 eries\, this epic fantasy adventure inspired by Indigenous American mythol
 ogy follows a band of misfit children who must pull off an impossible heis
 t in order to save the world!</p>\n<p>&nbsp\;</p>\n<p>Thanks to a prophecy
  revealed when he was little\, thirteen-year-old Kyta always knew that he 
 was destined to save the world. But waiting for that moment has kept him o
 n edge his whole childhood\, preventing him from having fun like other kid
 s in his tribe. So when the ground quakes and the trees whisper that somet
 hing is wrong\, Kyta leaps into action\, desperate to fulfill his destiny.
 </p>\n<p>&nbsp\;</p>\n<p>He is horrified to find that the precious Egg of 
 the World Turtle\, on whose vast shell everyone and everything lives\, has
  been stolen by invaders. The Turtle is angry and grief-stricken\, threate
 ning to upend the very land under their feet. The invaders refuse to heed 
 the warning of the tribes and return the Egg...so Kyta comes up with a pla
 n to steal it back!</p>\n<p>&nbsp\;</p>\n<p>It's risky and dangerous...but
  abandoning the Egg is certain doom. Kyta assembles other kids who could s
 neak into the invaders' fortress and pull off the heist\, but getting four
  very different personalities to work together is harder than he thought. 
 And when they discover that the Egg is being guarded by an evil collector\
 , his savage ogres\, and a beast so terrible that it defies description\, 
 their odds seem all but impossible! Will Kyta be able to fulfill his desti
 ny\, or did he set himself up to fail...and the world to fall?</p>\n<p>&nb
 sp\;</p>\n<p>Inspired by the Indigenous American folktales\, this thrillin
 g and heartwarming fantasy shows the importance of teamwork\, respect for 
 nature\, and believing in yourself.</p>\n<p>&nbsp\;</p>\n<p>&nbsp\;</p>\n<
 p><strong>More about the author:</strong></p>\n<p>Christopher Roubique gre
 w up in rural Wisconsin and filled his time&mdash\;and his heart&mdash\;wi
 th the joys of fantasy and science fiction. His own books leap from those 
 same joys\, folding in his Cajun and Indigenous heritage\, passion for men
 tal health\, and plenty of fantastical creatures. He lives in Oak Creek an
 d has squeezed his wife and daughter beside all those stories in his heart
  too.</p>\n<p>&nbsp\;</p>\n<p>&nbsp\;</p>\n<p><strong>Event info:</strong>
 </p>\n<p>This free event is a joint partnership of <a href=\"https://boswe
 llbooks.com/\" target=\"_blank\" rel=\"noopener\">Boswell Books Company</a
 > and the Oak Creek Public Library taking place on <strong>Thursday\, Febr
 uary 26 at 6:30-7:30 p.m.</strong> It will be held in the library's Multi-
 purpose Room located at 8040 S St\, Oak Creek\, WI 53154.</p>\n<p>&nbsp\;<
 /p>\n<p>Open to all ages\; children under 12 must be accompanied by an adu
 lt. <strong>Registration is highly recommended</strong> so be sure to rese
 rve some seats before they run out! Worried about it being a school night?
  Don't be! There will be no school for students in the Oak-Creek Franklin 
 School District on Friday\, February 27. This is truly an ideal occasion t
 o attend a family-friendly author talk with your kids.</p>
URL;VALUE=URI:https://events.getlocalhop.com/meet-oak-creek-author-christo
 pher-roubique/event/Y7HaBFPDHf/
END:VEVENT
END:VCALENDAR