BEGIN:VCALENDAR
VERSION:2.0
PRODID:-//events.getlocalhop.com//localhop-calendar//EN
URL:https://api.getlocalhop.com/calendar?instance=iIwGMGehYQ&series=false
BEGIN:VEVENT
UID:event-instance-iIwGMGehYQ@events.getlocalhop.com
SEQUENCE:0
DTSTAMP:20260423T170158Z
DTSTART:20250912T220000Z
DTEND:20250913T010000Z
SUMMARY:Axes & Snaxes After Dark: The Great Bake Down
LOCATION:Washington District Library\, 380 N. Wilmor Rd. Washington\, IL 6
 1571\, Main Library Meeting Room
DESCRIPTION:<p>Fellow lovers of true crime for a night of murder\, mystery
 \, and baked goods! Prizes will be awarded in various categories\, so come
  ready to solve the mystery and dressed to bake! Dinner from Micheal's alo
 ng with themed beverages and desserts will be provided.</p>\n<p>Ages: 18+<
 /p>
URL;VALUE=URI:https://events.getlocalhop.com/axes-and-snaxes-after-dark-th
 e-great-bake-down/event/EQyQFRfznk/
END:VEVENT
END:VCALENDAR