BEGIN:VCALENDAR
VERSION:2.0
PRODID:-//events.getlocalhop.com//localhop-calendar//EN
URL:https://api.getlocalhop.com/calendar?instance=iGCez4bG0l&series=false
BEGIN:VEVENT
UID:event-instance-iGCez4bG0l@events.getlocalhop.com
SEQUENCE:0
DTSTAMP:20260422T003705Z
DTSTART:20211222T223000Z
DTEND:20211223T013000Z
SUMMARY:Maker Space Open Lab
LOCATION:Sterling Heights Public Library\, 40255 Dodge Park Road Sterling 
 Heights\, MI 48313\, Maker Space
DESCRIPTION:Sterling Heights cardholders can sign up to use the Maker Spac
 e.  Use our equipment to make your vision come to life! It features a Cric
 ut laser cutter\, sewing machine\,  3D printer\, and  computer with the Ad
 obe Creative Suite software. \n\nThis is open to all ages\, however\, thos
 e under age 12 will need a parent or guardian with them. We ask that both 
 child and guardian register.  Both can be registered under the guardian's 
 library card number. \n\nWalk-ins will be taken if the room is not at capa
 city and the desired equipment is free. \n\nPlease keep in mind that the 3
 D printer can take longer than an hour for some designs to print.  Thus\, 
 you would have to come back another day to pick it up.
URL;VALUE=URI:https://events.getlocalhop.com/maker-space-open-lab/event/FD
 hDUxsane/
END:VEVENT
END:VCALENDAR