BEGIN:VCALENDAR
VERSION:2.0
PRODID:-//events.getlocalhop.com//localhop-calendar//EN
URL:https://api.getlocalhop.com/calendar?instance=hoDhIM5R9c&series=false
BEGIN:VEVENT
UID:event-instance-hoDhIM5R9c@events.getlocalhop.com
SEQUENCE:0
DTSTAMP:20260425T163445Z
DTSTART:20230926T223000Z
DTEND:20230926T234500Z
SUMMARY:Michigan Education Trust (MET) and Michigan Education Savings Prog
 ram (MESP) Seminar
LOCATION:Warren Civic Center Library\, 1 City Square Warren\, MI 48093
DESCRIPTION:<p>Learn more about Michigan's 529 education savings programs\
 , MET and MESP. Both programs offer flexible features and tax advantages t
 o help save for a loved one's future education costs.</p>
URL;VALUE=URI:https://events.getlocalhop.com/michigan-education-trust-met-
 and-michigan-education-savings-program-mesp-seminar/event/v78Sf2RWHB/
END:VEVENT
END:VCALENDAR