BEGIN:VCALENDAR
VERSION:2.0
PRODID:-//events.getlocalhop.com//localhop-calendar//EN
URL:https://api.getlocalhop.com/calendar?instance=hoDg4l2kMt&series=false
BEGIN:VEVENT
UID:event-instance-hoDg4l2kMt@events.getlocalhop.com
SEQUENCE:0
DTSTAMP:20260425T163752Z
DTSTART:20260430T180000Z
DTEND:20260430T184500Z
SUMMARY:Yankee Hill Village
LOCATION:8401 South 33rd Street Lincoln\, NE 68516
DESCRIPTION:<p>Lincoln City Libraries offers Bookmobile services to reside
 nts of Lincoln and Lancaster County. Our bookmobile is a library on wheels
 \; patrons can borrow materials like bestselling fiction\, nonfiction\, la
 rge print books\, graphic novels\, DVDs\, video games\, and board books. F
 ree wifi is also available for those aboard and near the bookmobile.</p>
URL;VALUE=URI:https://events.getlocalhop.com/yankee-hill-village/event/CJR
 IEnNUeY/
END:VEVENT
END:VCALENDAR