BEGIN:VCALENDAR
VERSION:2.0
PRODID:-//events.getlocalhop.com//localhop-calendar//EN
URL:https://api.getlocalhop.com/calendar?instance=heOTDFSzGO&series=false
BEGIN:VEVENT
UID:event-instance-heOTDFSzGO@events.getlocalhop.com
SEQUENCE:0
DTSTAMP:20260421T161141Z
DTSTART;VALUE=DATE:20260601
DTEND;VALUE=DATE:20260602
X-MICROSOFT-CDO-ALLDAYEVENT:TRUE
X-MICROSOFT-MSNCALENDAR-ALLDAYEVENT:TRUE
SUMMARY:Roblox IRL: Build a Library
LOCATION:Henry Ford Centennial Library\, 16301 Michigan Avenue Dearborn\, 
 MI 48126\, Youth Services Desk
DESCRIPTION:<p>Relax and build your perfect library in this cozy\, free-to
 -play summer reading \"simulator\".</p>\n<p>Visit the children's desk at H
 enry Ford Centennial Library to receive your personal miniature library th
 en log on Beanstack throughout the summer. Reading and logging activities 
 will earn you points to cash in for items to decorate your library!&nbsp\;
 </p>
URL;VALUE=URI:https://events.getlocalhop.com/roblox-irl-build-a-library/ev
 ent/Hn1S2vwAFA/
END:VEVENT
END:VCALENDAR