BEGIN:VCALENDAR
VERSION:2.0
PRODID:-//events.getlocalhop.com//localhop-calendar//EN
URL:https://api.getlocalhop.com/calendar?instance=hJjTMMmSZF&series=false
BEGIN:VEVENT
UID:event-instance-hJjTMMmSZF@events.getlocalhop.com
SEQUENCE:0
DTSTAMP:20260419T162747Z
DTSTART:20240228T220000Z
DTEND:20240229T000000Z
SUMMARY:The 1895 Beer Release
LOCATION:Johnson City Brewing Company\, 257 E. Main St. Johnson City\, TN 
 37604
DESCRIPTION:<p>Johnson City Brewing Company (JCBC) is bringing back The 18
 95\, a beer inspired by your Library! JCBC first created the delicious pre
 -prohibition style lager in 2020 to commemorate the Library's 125th annive
 rsary. Ages 21 and older are invited to stop by for a pint of The 1895 at 
 JCBC's downtown taproom (257 E. Main St.) on Wednesday\, Feb. 28 from 5-7 
 p.m. to celebrate its re-release!</p>\n<p>&nbsp\;</p>\n<p>The brewery\, wh
 ich opened in 2014\, is bringing back The 1895 for a limited time as part 
 of its 10th anniversary celebration. The beer will be on tap and available
  in cans for a limited time. JCBC is also creating three flavor varieties 
 of the lager that will be available at their downtown taproom.</p>
URL;VALUE=URI:https://events.getlocalhop.com/the-1895-beer-release/event/D
 Lg1BJ2DMd/
END:VEVENT
END:VCALENDAR