BEGIN:VCALENDAR
VERSION:2.0
PRODID:-//events.getlocalhop.com//localhop-calendar//EN
URL:https://api.getlocalhop.com/calendar?instance=hFckRjMPtZ&series=false
BEGIN:VEVENT
UID:event-instance-hFckRjMPtZ@events.getlocalhop.com
SEQUENCE:0
DTSTAMP:20260419T125828Z
DTSTART:20260324T220000Z
DTEND:20260324T230000Z
SUMMARY:Reading Rainbow
LOCATION:Ferndale Area District Library\, 222 East 9 Mile Ferndale\, MI 48
 220
DESCRIPTION:<p>For kids in grades 4-8:&nbsp\;The Ferndale Library and Affi
 rmations co-host a social club/book club for kids\, tweens/teens\, meeting
  on the fourth Tuesday of each month at 6:00 pm in the library's program r
 oom.<br /><br /></p>\n<p>This is a social hour that includes a book discus
 sion. Each month\, attendees have the chance to read and then discuss a se
 lected book at the Reading Rainbow.<br /><br /></p>\n<p>Kids don't have to
  have finished (or even started) the book to attend the Reading Rainbow\; 
 the rest of the hour is free time dedicated to socializing/crafting/hangin
 g out together.<br /><br /></p>\n<p>Drop-ins are always welcome!&nbsp\;<br
  /><br /></p>\n<p>You can pick up a copy of this month's book at the Fernd
 ale Library or place a hold online.&nbsp\;<br /><br /></p>\n<p>On Tues.\, 
 March 24\, we'll be discussing <em>The Song of Us </em>by Kate Fussner: Th
 is stunning debut and wholly original queer middle grade novel-in-verse re
 telling of Orpheus and Eurydice adds a new chorus to the songs of great lo
 ve\, perfect for fans of Other Words for Home and Ivy Aberdeen's Letter to
  the World.</p>\n<p>&nbsp\;</p>\n<p>FADL is committed to accessibility&mda
 sh\;please reach out at least 1 week in advance for accommodation requests
  at youth@fadl.org or 248-546-2504<br />&nbsp\;</p>
URL;VALUE=URI:https://events.getlocalhop.com/reading-rainbow/event/kCjqnAO
 BW2/
END:VEVENT
END:VCALENDAR