BEGIN:VCALENDAR
VERSION:2.0
PRODID:-//events.getlocalhop.com//localhop-calendar//EN
URL:https://api.getlocalhop.com/calendar?instance=h3f6iUGZAO&series=false
BEGIN:VEVENT
UID:event-instance-h3f6iUGZAO@events.getlocalhop.com
SEQUENCE:0
DTSTAMP:20260424T163357Z
DTSTART:20260530T180000Z
DTEND:20260530T200000Z
SUMMARY:LA Firefighters Foundation Presents Safe and In Charge Little Lead
 ers
LOCATION:East Baton Rouge Jones Creek Regional\, 6222 Jones Creek Road Bat
 on Rouge\, LA 70817
DESCRIPTION:<p>In this 2 hour class\, children will learn about the follow
 ing topics from the Louisiana Firefighters Foundation: &nbsp\;Home safety\
 , being home alone\, fire safety and escape planning\, online safety\, how
  to call 911\, making safe choices\, asking for help\, confidence\, and re
 sponsibility. &nbsp\;Registration is required at https://louisianafirefigh
 ters.com/community/safeincharge/#starty\, or by scanning the QR Code. &nbs
 p\;</p>
URL;VALUE=URI:https://events.getlocalhop.com/la-firefighters-foundation-pr
 esents-safe-and-in-charge-little-leaders/event/yI7LOajx2D/
END:VEVENT
END:VCALENDAR