BEGIN:VCALENDAR
VERSION:2.0
PRODID:-//events.getlocalhop.com//localhop-calendar//EN
URL:https://api.getlocalhop.com/calendar?instance=h25MkBEoPi&series=false
BEGIN:VEVENT
UID:event-instance-h25MkBEoPi@events.getlocalhop.com
SEQUENCE:0
DTSTAMP:20260421T043555Z
DTSTART:20241014T213000Z
DTEND:20241014T223000Z
SUMMARY:Animals on the Move for Children & Families (M)
LOCATION:Manistee County Library\, 95 Maple Street Manistee\, MI 49660\, O
 utdoors in Story Park
DESCRIPTION:<p>One of the healthiest ways to stay fit is to get outdoors a
 nd get moving! Learn about a variety of local animals and the ways they mo
 ve with this interactive program that will get kids moving and active in t
 he outdoors! This program is presented by a Grass River Natural Area educa
 tor and includes interaction with one or more live animals.</p>\n<p>Regist
 ration required. This event will take place outdoors\, weather-permitting\
 , please dress accordingly. In case of rain\, we will move our event indoo
 rs!</p>
URL;VALUE=URI:https://events.getlocalhop.com/animals-on-the-move-for-child
 ren-and-families-m/event/ICCdK9AcAM/
END:VEVENT
END:VCALENDAR