BEGIN:VCALENDAR
VERSION:2.0
PRODID:-//events.getlocalhop.com//localhop-calendar//EN
URL:https://api.getlocalhop.com/calendar?instance=gak1hbwh1p&series=true
BEGIN:VEVENT
UID:event-instance-gak1hbwh1p@events.getlocalhop.com
SEQUENCE:0
DTSTAMP:20260420T012248Z
DTSTART:20260504T143000Z
DTEND:20260504T151500Z
SUMMARY:Younger Youth Storytime
LOCATION:Pontiac Public Library\, 60 East Pike Street Pontiac\, MI 48342\,
  Youth Room
DESCRIPTION:<p><strong>Mondays\, 05/04\, 10:30-11:15am and June through Au
 gust\, 11-11:45am\, Youth Room: </strong>Younger Youth Ages 0-5 listen to 
 stories and do movement activities like dancing. <strong>Registration is n
 ot required!</strong></p>
URL;VALUE=URI:https://events.getlocalhop.com/younger-youth-storytime/event
 /h4rOsOlLll/
END:VEVENT
BEGIN:VEVENT
UID:event-instance-CaU5r97SPL@events.getlocalhop.com
SEQUENCE:0
DTSTAMP:20260420T012248Z
DTSTART:20260601T150000Z
DTEND:20260601T154500Z
SUMMARY:Younger Youth Storytime
LOCATION:Pontiac Public Library\, 60 East Pike Street Pontiac\, MI 48342\,
  Youth Room
DESCRIPTION:<p><strong>Mondays\, 05/04\, 10:30-11:15am and June through Au
 gust\, 11-11:45am\, Youth Room: </strong>Younger Youth Ages 0-5 listen to 
 stories and do movement activities like dancing. <strong>Registration is n
 ot required!</strong></p>
URL;VALUE=URI:https://events.getlocalhop.com/younger-youth-storytime/event
 /h4rOsOlLll/
END:VEVENT
BEGIN:VEVENT
UID:event-instance-3hSxG2edcA@events.getlocalhop.com
SEQUENCE:0
DTSTAMP:20260420T012248Z
DTSTART:20260608T150000Z
DTEND:20260608T154500Z
SUMMARY:Younger Youth Storytime
LOCATION:Pontiac Public Library\, 60 East Pike Street Pontiac\, MI 48342\,
  Youth Room
DESCRIPTION:<p><strong>Mondays\, 05/04\, 10:30-11:15am and June through Au
 gust\, 11-11:45am\, Youth Room: </strong>Younger Youth Ages 0-5 listen to 
 stories and do movement activities like dancing. <strong>Registration is n
 ot required!</strong></p>
URL;VALUE=URI:https://events.getlocalhop.com/younger-youth-storytime/event
 /h4rOsOlLll/
END:VEVENT
BEGIN:VEVENT
UID:event-instance-IM3i9QAyc7@events.getlocalhop.com
SEQUENCE:0
DTSTAMP:20260420T012248Z
DTSTART:20260615T150000Z
DTEND:20260615T154500Z
SUMMARY:Younger Youth Storytime
LOCATION:Pontiac Public Library\, 60 East Pike Street Pontiac\, MI 48342\,
  Youth Room
DESCRIPTION:<p><strong>Mondays\, 05/04\, 10:30-11:15am and June through Au
 gust\, 11-11:45am\, Youth Room: </strong>Younger Youth Ages 0-5 listen to 
 stories and do movement activities like dancing. <strong>Registration is n
 ot required!</strong></p>
URL;VALUE=URI:https://events.getlocalhop.com/younger-youth-storytime/event
 /h4rOsOlLll/
END:VEVENT
BEGIN:VEVENT
UID:event-instance-R5xZwOZ9pb@events.getlocalhop.com
SEQUENCE:0
DTSTAMP:20260420T012248Z
DTSTART:20260622T150000Z
DTEND:20260622T154500Z
SUMMARY:Younger Youth Storytime
LOCATION:Pontiac Public Library\, 60 East Pike Street Pontiac\, MI 48342\,
  Youth Room
DESCRIPTION:<p><strong>Mondays\, 05/04\, 10:30-11:15am and June through Au
 gust\, 11-11:45am\, Youth Room: </strong>Younger Youth Ages 0-5 listen to 
 stories and do movement activities like dancing. <strong>Registration is n
 ot required!</strong></p>
URL;VALUE=URI:https://events.getlocalhop.com/younger-youth-storytime/event
 /h4rOsOlLll/
END:VEVENT
BEGIN:VEVENT
UID:event-instance-pKw7Z1FCXN@events.getlocalhop.com
SEQUENCE:0
DTSTAMP:20260420T012248Z
DTSTART:20260629T150000Z
DTEND:20260629T154500Z
SUMMARY:Younger Youth Storytime
LOCATION:Pontiac Public Library\, 60 East Pike Street Pontiac\, MI 48342\,
  Youth Room
DESCRIPTION:<p><strong>Mondays\, 05/04\, 10:30-11:15am and June through Au
 gust\, 11-11:45am\, Youth Room: </strong>Younger Youth Ages 0-5 listen to 
 stories and do movement activities like dancing. <strong>Registration is n
 ot required!</strong></p>
URL;VALUE=URI:https://events.getlocalhop.com/younger-youth-storytime/event
 /h4rOsOlLll/
END:VEVENT
BEGIN:VEVENT
UID:event-instance-z2Hve23R1U@events.getlocalhop.com
SEQUENCE:0
DTSTAMP:20260420T012248Z
DTSTART:20260706T150000Z
DTEND:20260706T154500Z
SUMMARY:Younger Youth Storytime
LOCATION:Pontiac Public Library\, 60 East Pike Street Pontiac\, MI 48342\,
  Youth Room
DESCRIPTION:<p><strong>Mondays\, 05/04\, 10:30-11:15am and June through Au
 gust\, 11-11:45am\, Youth Room: </strong>Younger Youth Ages 0-5 listen to 
 stories and do movement activities like dancing. <strong>Registration is n
 ot required!</strong></p>
URL;VALUE=URI:https://events.getlocalhop.com/younger-youth-storytime/event
 /h4rOsOlLll/
END:VEVENT
BEGIN:VEVENT
UID:event-instance-4Jpv4azm0H@events.getlocalhop.com
SEQUENCE:0
DTSTAMP:20260420T012248Z
DTSTART:20260713T150000Z
DTEND:20260713T154500Z
SUMMARY:Younger Youth Storytime
LOCATION:Pontiac Public Library\, 60 East Pike Street Pontiac\, MI 48342\,
  Youth Room
DESCRIPTION:<p><strong>Mondays\, 05/04\, 10:30-11:15am and June through Au
 gust\, 11-11:45am\, Youth Room: </strong>Younger Youth Ages 0-5 listen to 
 stories and do movement activities like dancing. <strong>Registration is n
 ot required!</strong></p>
URL;VALUE=URI:https://events.getlocalhop.com/younger-youth-storytime/event
 /h4rOsOlLll/
END:VEVENT
BEGIN:VEVENT
UID:event-instance-WkIuYY7YDC@events.getlocalhop.com
SEQUENCE:0
DTSTAMP:20260420T012248Z
DTSTART:20260720T150000Z
DTEND:20260720T154500Z
SUMMARY:Younger Youth Storytime
LOCATION:Pontiac Public Library\, 60 East Pike Street Pontiac\, MI 48342\,
  Youth Room
DESCRIPTION:<p><strong>Mondays\, 05/04\, 10:30-11:15am and June through Au
 gust\, 11-11:45am\, Youth Room: </strong>Younger Youth Ages 0-5 listen to 
 stories and do movement activities like dancing. <strong>Registration is n
 ot required!</strong></p>
URL;VALUE=URI:https://events.getlocalhop.com/younger-youth-storytime/event
 /h4rOsOlLll/
END:VEVENT
BEGIN:VEVENT
UID:event-instance-5sGYHiv2qg@events.getlocalhop.com
SEQUENCE:0
DTSTAMP:20260420T012248Z
DTSTART:20260727T150000Z
DTEND:20260727T154500Z
SUMMARY:Younger Youth Storytime
LOCATION:Pontiac Public Library\, 60 East Pike Street Pontiac\, MI 48342\,
  Youth Room
DESCRIPTION:<p><strong>Mondays\, 05/04\, 10:30-11:15am and June through Au
 gust\, 11-11:45am\, Youth Room: </strong>Younger Youth Ages 0-5 listen to 
 stories and do movement activities like dancing. <strong>Registration is n
 ot required!</strong></p>
URL;VALUE=URI:https://events.getlocalhop.com/younger-youth-storytime/event
 /h4rOsOlLll/
END:VEVENT
BEGIN:VEVENT
UID:event-instance-hMFIt5FB6U@events.getlocalhop.com
SEQUENCE:0
DTSTAMP:20260420T012248Z
DTSTART:20260803T150000Z
DTEND:20260803T154500Z
SUMMARY:Younger Youth Storytime
LOCATION:Pontiac Public Library\, 60 East Pike Street Pontiac\, MI 48342\,
  Youth Room
DESCRIPTION:<p><strong>Mondays\, 05/04\, 10:30-11:15am and June through Au
 gust\, 11-11:45am\, Youth Room: </strong>Younger Youth Ages 0-5 listen to 
 stories and do movement activities like dancing. <strong>Registration is n
 ot required!</strong></p>
URL;VALUE=URI:https://events.getlocalhop.com/younger-youth-storytime/event
 /h4rOsOlLll/
END:VEVENT
BEGIN:VEVENT
UID:event-instance-mthrBXkwp6@events.getlocalhop.com
SEQUENCE:0
DTSTAMP:20260420T012248Z
DTSTART:20260810T150000Z
DTEND:20260810T154500Z
SUMMARY:Younger Youth Storytime
LOCATION:Pontiac Public Library\, 60 East Pike Street Pontiac\, MI 48342\,
  Youth Room
DESCRIPTION:<p><strong>Mondays\, 05/04\, 10:30-11:15am and June through Au
 gust\, 11-11:45am\, Youth Room: </strong>Younger Youth Ages 0-5 listen to 
 stories and do movement activities like dancing. <strong>Registration is n
 ot required!</strong></p>
URL;VALUE=URI:https://events.getlocalhop.com/younger-youth-storytime/event
 /h4rOsOlLll/
END:VEVENT
BEGIN:VEVENT
UID:event-instance-OvihKWTbzH@events.getlocalhop.com
SEQUENCE:0
DTSTAMP:20260420T012248Z
DTSTART:20260817T150000Z
DTEND:20260817T154500Z
SUMMARY:Younger Youth Storytime
LOCATION:Pontiac Public Library\, 60 East Pike Street Pontiac\, MI 48342\,
  Youth Room
DESCRIPTION:<p><strong>Mondays\, 05/04\, 10:30-11:15am and June through Au
 gust\, 11-11:45am\, Youth Room: </strong>Younger Youth Ages 0-5 listen to 
 stories and do movement activities like dancing. <strong>Registration is n
 ot required!</strong></p>
URL;VALUE=URI:https://events.getlocalhop.com/younger-youth-storytime/event
 /h4rOsOlLll/
END:VEVENT
BEGIN:VEVENT
UID:event-instance-g19KSuaegf@events.getlocalhop.com
SEQUENCE:0
DTSTAMP:20260420T012248Z
DTSTART:20260824T150000Z
DTEND:20260824T154500Z
SUMMARY:Younger Youth Storytime
LOCATION:Pontiac Public Library\, 60 East Pike Street Pontiac\, MI 48342\,
  Youth Room
DESCRIPTION:<p><strong>Mondays\, 05/04\, 10:30-11:15am and June through Au
 gust\, 11-11:45am\, Youth Room: </strong>Younger Youth Ages 0-5 listen to 
 stories and do movement activities like dancing. <strong>Registration is n
 ot required!</strong></p>
URL;VALUE=URI:https://events.getlocalhop.com/younger-youth-storytime/event
 /h4rOsOlLll/
END:VEVENT
BEGIN:VEVENT
UID:event-instance-Bu5zqnW7bL@events.getlocalhop.com
SEQUENCE:0
DTSTAMP:20260420T012248Z
DTSTART:20260831T150000Z
DTEND:20260831T154500Z
SUMMARY:Younger Youth Storytime
LOCATION:Pontiac Public Library\, 60 East Pike Street Pontiac\, MI 48342\,
  Youth Room
DESCRIPTION:<p><strong>Mondays\, 05/04\, 10:30-11:15am and June through Au
 gust\, 11-11:45am\, Youth Room: </strong>Younger Youth Ages 0-5 listen to 
 stories and do movement activities like dancing. <strong>Registration is n
 ot required!</strong></p>
URL;VALUE=URI:https://events.getlocalhop.com/younger-youth-storytime/event
 /h4rOsOlLll/
END:VEVENT
END:VCALENDAR