BEGIN:VCALENDAR
VERSION:2.0
PRODID:-//events.getlocalhop.com//localhop-calendar//EN
URL:https://api.getlocalhop.com/calendar?instance=gYK6sJrqa3&series=false
BEGIN:VEVENT
UID:event-instance-gYK6sJrqa3@events.getlocalhop.com
SEQUENCE:0
DTSTAMP:20260423T122442Z
DTSTART:20221107T160000Z
DTEND:20221107T170000Z
SUMMARY:Basics of Medicare (In Person)
LOCATION:TAPPAN LIBRARY - COMMUNITY ROOM\, 93 Main Street Tappan\, NY 1098
 3
DESCRIPTION:<p>Join the SSNA as they go over the A\, B\, C\, D's of Medica
 re. At this seminar learn how you can lower your prescription drug costs\,
  choose the Medicare plan correct for you and navigate new features and el
 igible benefits.</p>
URL;VALUE=URI:https://events.getlocalhop.com/basics-of-medicare-in-person/
 event/gkERFY81dB/
END:VEVENT
END:VCALENDAR