BEGIN:VCALENDAR
VERSION:2.0
PRODID:-//events.getlocalhop.com//localhop-calendar//EN
URL:https://api.getlocalhop.com/calendar?instance=gWq8oKvyf1&series=false
BEGIN:VEVENT
UID:event-instance-gWq8oKvyf1@events.getlocalhop.com
SEQUENCE:0
DTSTAMP:20260423T120022Z
DTSTART:20260423T153000Z
DTEND:20260423T163000Z
SUMMARY:Homeschool Bingo
LOCATION:Milton Public Library\, 430 E. High St. Milton\, WI 53563
DESCRIPTION:<p><strong>&nbsp\;Thursday\, April 23\, 10:30 am</strong></p>\
 n<p>Homeschooling families\, let&rsquo\;s play bingo! Snacks also provided
 . Registration required.</p>
URL;VALUE=URI:https://events.getlocalhop.com/homeschool-bingo/event/htfjJ5
 eTDD/
END:VEVENT
END:VCALENDAR