BEGIN:VCALENDAR
VERSION:2.0
PRODID:-//events.getlocalhop.com//localhop-calendar//EN
URL:https://api.getlocalhop.com/calendar?instance=gE4HtODPYG&series=false
BEGIN:VEVENT
UID:event-instance-gE4HtODPYG@events.getlocalhop.com
SEQUENCE:0
DTSTAMP:20260419T125551Z
DTSTART:20260418T160000Z
DTEND:20260418T180000Z
SUMMARY:Pulaski County Carnival
LOCATION:Eastern Pulaski Schools\, 711 School Drive Winamac\, IN 46996\, E
 lementary School Gym
DESCRIPTION:<p>Enjoy a day of free food\, carnival games\, and prizes!</p>
URL;VALUE=URI:https://events.getlocalhop.com/pulaski-county-carnival/event
 /DAUM4v3FkV/
END:VEVENT
END:VCALENDAR