BEGIN:VCALENDAR
VERSION:2.0
PRODID:-//events.getlocalhop.com//localhop-calendar//EN
URL:https://api.getlocalhop.com/calendar?instance=fqkC77vGwe&series=true
BEGIN:VEVENT
UID:event-instance-fqkC77vGwe@events.getlocalhop.com
SEQUENCE:0
DTSTAMP:20260422T141713Z
DTSTART:20260424T210000Z
DTEND:20260424T220000Z
SUMMARY:Adult Chair Yoga
LOCATION:Louisville Public Library\, 1600 S Nickelplate St.\, Louisville\,
  OH 44641 Louisville\, OH 44641
DESCRIPTION:<p>Join us in the meeting room upstairs for gentle stretching 
 and slow exercise\, all while seated in a chair. It's a terrific weekend w
 ind-down! All experience levels are welcome.&nbsp\;</p>
URL;VALUE=URI:https://events.getlocalhop.com/adult-chair-yoga/event/rBOE1r
 F0Sm/
END:VEVENT
BEGIN:VEVENT
UID:event-instance-syaarWUgFC@events.getlocalhop.com
SEQUENCE:0
DTSTAMP:20260422T141713Z
DTSTART:20260501T210000Z
DTEND:20260501T220000Z
SUMMARY:Adult Chair Yoga
LOCATION:Louisville Public Library\, 1600 S Nickelplate St.\, Louisville\,
  OH 44641 Louisville\, OH 44641
DESCRIPTION:<p>Join us in the meeting room upstairs for gentle stretching 
 and slow exercise\, all while seated in a chair. It's a terrific weekend w
 ind-down! All experience levels are welcome.&nbsp\;</p>
URL;VALUE=URI:https://events.getlocalhop.com/adult-chair-yoga/event/rBOE1r
 F0Sm/
END:VEVENT
BEGIN:VEVENT
UID:event-instance-r4vsBnPtEr@events.getlocalhop.com
SEQUENCE:0
DTSTAMP:20260422T141713Z
DTSTART:20260508T210000Z
DTEND:20260508T220000Z
SUMMARY:Adult Chair Yoga
LOCATION:Louisville Public Library\, 1600 S Nickelplate St.\, Louisville\,
  OH 44641 Louisville\, OH 44641
DESCRIPTION:<p>Join us in the meeting room upstairs for gentle stretching 
 and slow exercise\, all while seated in a chair. It's a terrific weekend w
 ind-down! All experience levels are welcome.&nbsp\;</p>
URL;VALUE=URI:https://events.getlocalhop.com/adult-chair-yoga/event/rBOE1r
 F0Sm/
END:VEVENT
BEGIN:VEVENT
UID:event-instance-bCgDpaO2gk@events.getlocalhop.com
SEQUENCE:0
DTSTAMP:20260422T141713Z
DTSTART:20260515T210000Z
DTEND:20260515T220000Z
SUMMARY:Adult Chair Yoga
LOCATION:Louisville Public Library\, 1600 S Nickelplate St.\, Louisville\,
  OH 44641 Louisville\, OH 44641
DESCRIPTION:<p>Join us in the meeting room upstairs for gentle stretching 
 and slow exercise\, all while seated in a chair. It's a terrific weekend w
 ind-down! All experience levels are welcome.&nbsp\;</p>
URL;VALUE=URI:https://events.getlocalhop.com/adult-chair-yoga/event/rBOE1r
 F0Sm/
END:VEVENT
BEGIN:VEVENT
UID:event-instance-o3BybFMkAb@events.getlocalhop.com
SEQUENCE:0
DTSTAMP:20260422T141713Z
DTSTART:20260522T210000Z
DTEND:20260522T220000Z
SUMMARY:Adult Chair Yoga
LOCATION:Louisville Public Library\, 1600 S Nickelplate St.\, Louisville\,
  OH 44641 Louisville\, OH 44641
DESCRIPTION:<p>Join us in the meeting room upstairs for gentle stretching 
 and slow exercise\, all while seated in a chair. It's a terrific weekend w
 ind-down! All experience levels are welcome.&nbsp\;</p>
URL;VALUE=URI:https://events.getlocalhop.com/adult-chair-yoga/event/rBOE1r
 F0Sm/
END:VEVENT
END:VCALENDAR