BEGIN:VCALENDAR
VERSION:2.0
PRODID:-//events.getlocalhop.com//localhop-calendar//EN
URL:https://api.getlocalhop.com/calendar?instance=fooebBL7ax&series=false
BEGIN:VEVENT
UID:event-instance-fooebBL7ax@events.getlocalhop.com
SEQUENCE:0
DTSTAMP:20260420T055714Z
DTSTART;VALUE=DATE:20240806
DTEND;VALUE=DATE:20240807
X-MICROSOFT-CDO-ALLDAYEVENT:TRUE
X-MICROSOFT-MSNCALENDAR-ALLDAYEVENT:TRUE
SUMMARY:Adventure Begins At Your Library - Youth Summer Reading Program
LOCATION:26300 Evergreen Road Southfield\, MI 48076
DESCRIPTION:<p>Join the Southfield Public Library for a reading adventure 
 and make reading part of your day\, every day! Beginning Monday\, June 17 
 pick up your reading log or register online using the ReadSquared app. Rea
 ding logs must be returned to the library by Friday\, August 9 to enter a 
 prize drawing.&nbsp\;</p>
URL;VALUE=URI:https://events.getlocalhop.com/adventure-begins-at-your-libr
 ary-youth-summer-reading-program/event/HOGKXSOtTA/
END:VEVENT
END:VCALENDAR