BEGIN:VCALENDAR
VERSION:2.0
PRODID:-//events.getlocalhop.com//localhop-calendar//EN
URL:https://api.getlocalhop.com/calendar?instance=foYX5YXQWL&series=false
BEGIN:VEVENT
UID:event-instance-foYX5YXQWL@events.getlocalhop.com
SEQUENCE:0
DTSTAMP:20260420T102540Z
DTSTART:20260412T180000Z
DTEND:20260412T193000Z
SUMMARY:Poetry Workshop and Open Mic with M.L. Liebler and The Magic Poetr
 y Band
LOCATION:500 Olde Towne Rd. Rochester\, MI 48307\, Multipurpose Room
DESCRIPTION:<p>Sunday\, April 12\, 2:00 p.m. Multipurpose Room.&nbsp\;</p>
 \n<p>Please join us for a Poetry Workshop and Open Mic led by M.L. Liebler
  and his band The Magic Poetry Band. M. L. Liebler is an internationally k
 nown &amp\; widely published Detroit poet\, university professor\, literar
 y arts activist\, and arts organizer. He was named The 2017-2018 Murray E.
  Jackson Scholar in the Arts Award &nbsp\;at Wayne State University. Liebl
 er is the author of 15 books and chapbooks including the Award winning Wid
 e Awake in Someone Else's Dream (Wayne State University Press 2008) featur
 ing poems written in and about Russia\, Israel\, Germany\, Alaska and Detr
 oit. Wide Awake won both The Paterson Poetry Prize for Literary Excellence
  and The American Indie Book Award for 2009. &nbsp\;In September 2020\, M.
  L. was awarded the Michigan Humanities Champion of the Year. His new memo
 ir Hound Dog: A Poet's Memoir of Rock\, Revolution and Redemption from Cor
 nerstone Press/University of Wisconsin will be released in early 2026.</p>
URL;VALUE=URI:https://events.getlocalhop.com/poetry-workshop-and-open-mic-
 with-ml-liebler-and-the-magic-poetry-band/event/zD97NPBAEQ/
END:VEVENT
END:VCALENDAR