BEGIN:VCALENDAR
VERSION:2.0
PRODID:-//events.getlocalhop.com//localhop-calendar//EN
URL:https://api.getlocalhop.com/calendar?instance=fkQWfKOvGd&series=true
BEGIN:VEVENT
UID:event-instance-fkQWfKOvGd@events.getlocalhop.com
SEQUENCE:0
DTSTAMP:20260422T134121Z
DTSTART:20260427T230000Z
DTEND:20260428T000000Z
SUMMARY:Board of Trustees Meeting
LOCATION:9800 Pontiac Trl South Lyon\, MI 48178
DESCRIPTION:<p>Monthly Library Board of Trustees meeting. Public is welcom
 e and encouraged to attend. This meeting is currently scheduled to take pl
 ace in-person. For more information about the Board of Trustees\, visit: <
 a href=\"https://www.ssldl.info/about_us/board_of_trustees.php\">https://w
 ww.ssldl.info/about_us/board_of_trustees.php</a></p>
URL;VALUE=URI:https://events.getlocalhop.com/board-of-trustees-meeting/eve
 nt/32hA84PZcw/
END:VEVENT
BEGIN:VEVENT
UID:event-instance-p9pAhuASQI@events.getlocalhop.com
SEQUENCE:0
DTSTAMP:20260422T134121Z
DTSTART:20260629T230000Z
DTEND:20260630T000000Z
SUMMARY:Board of Trustees Meeting
LOCATION:9800 Pontiac Trl South Lyon\, MI 48178
DESCRIPTION:<p>Monthly Library Board of Trustees meeting. Public is welcom
 e and encouraged to attend. This meeting is currently scheduled to take pl
 ace in-person. For more information about the Board of Trustees\, visit: <
 a href=\"https://www.ssldl.info/about_us/board_of_trustees.php\">https://w
 ww.ssldl.info/about_us/board_of_trustees.php</a></p>
URL;VALUE=URI:https://events.getlocalhop.com/board-of-trustees-meeting/eve
 nt/32hA84PZcw/
END:VEVENT
BEGIN:VEVENT
UID:event-instance-yN62hAslnl@events.getlocalhop.com
SEQUENCE:0
DTSTAMP:20260422T134121Z
DTSTART:20260727T230000Z
DTEND:20260728T000000Z
SUMMARY:Board of Trustees Meeting
LOCATION:9800 Pontiac Trl South Lyon\, MI 48178
DESCRIPTION:<p>Monthly Library Board of Trustees meeting. Public is welcom
 e and encouraged to attend. This meeting is currently scheduled to take pl
 ace in-person. For more information about the Board of Trustees\, visit: <
 a href=\"https://www.ssldl.info/about_us/board_of_trustees.php\">https://w
 ww.ssldl.info/about_us/board_of_trustees.php</a></p>
URL;VALUE=URI:https://events.getlocalhop.com/board-of-trustees-meeting/eve
 nt/32hA84PZcw/
END:VEVENT
BEGIN:VEVENT
UID:event-instance-ARdTfe75Ln@events.getlocalhop.com
SEQUENCE:0
DTSTAMP:20260422T134121Z
DTSTART:20260831T230000Z
DTEND:20260901T000000Z
SUMMARY:Board of Trustees Meeting
LOCATION:9800 Pontiac Trl South Lyon\, MI 48178
DESCRIPTION:<p>Monthly Library Board of Trustees meeting. Public is welcom
 e and encouraged to attend. This meeting is currently scheduled to take pl
 ace in-person. For more information about the Board of Trustees\, visit: <
 a href=\"https://www.ssldl.info/about_us/board_of_trustees.php\">https://w
 ww.ssldl.info/about_us/board_of_trustees.php</a></p>
URL;VALUE=URI:https://events.getlocalhop.com/board-of-trustees-meeting/eve
 nt/32hA84PZcw/
END:VEVENT
BEGIN:VEVENT
UID:event-instance-1tOiWAIhGI@events.getlocalhop.com
SEQUENCE:0
DTSTAMP:20260422T134121Z
DTSTART:20260928T230000Z
DTEND:20260929T000000Z
SUMMARY:Board of Trustees Meeting
LOCATION:9800 Pontiac Trl South Lyon\, MI 48178
DESCRIPTION:<p>Monthly Library Board of Trustees meeting. Public is welcom
 e and encouraged to attend. This meeting is currently scheduled to take pl
 ace in-person. For more information about the Board of Trustees\, visit: <
 a href=\"https://www.ssldl.info/about_us/board_of_trustees.php\">https://w
 ww.ssldl.info/about_us/board_of_trustees.php</a></p>
URL;VALUE=URI:https://events.getlocalhop.com/board-of-trustees-meeting/eve
 nt/32hA84PZcw/
END:VEVENT
BEGIN:VEVENT
UID:event-instance-aRwV7xmXF0@events.getlocalhop.com
SEQUENCE:0
DTSTAMP:20260422T134121Z
DTSTART:20261026T230000Z
DTEND:20261027T000000Z
SUMMARY:Board of Trustees Meeting
LOCATION:9800 Pontiac Trl South Lyon\, MI 48178
DESCRIPTION:<p>Monthly Library Board of Trustees meeting. Public is welcom
 e and encouraged to attend. This meeting is currently scheduled to take pl
 ace in-person. For more information about the Board of Trustees\, visit: <
 a href=\"https://www.ssldl.info/about_us/board_of_trustees.php\">https://w
 ww.ssldl.info/about_us/board_of_trustees.php</a></p>
URL;VALUE=URI:https://events.getlocalhop.com/board-of-trustees-meeting/eve
 nt/32hA84PZcw/
END:VEVENT
BEGIN:VEVENT
UID:event-instance-QF94cx7b07@events.getlocalhop.com
SEQUENCE:0
DTSTAMP:20260422T134121Z
DTSTART:20261201T000000Z
DTEND:20261201T010000Z
SUMMARY:Board of Trustees Meeting
LOCATION:9800 Pontiac Trl South Lyon\, MI 48178
DESCRIPTION:<p>Monthly Library Board of Trustees meeting. Public is welcom
 e and encouraged to attend. This meeting is currently scheduled to take pl
 ace in-person. For more information about the Board of Trustees\, visit: <
 a href=\"https://www.ssldl.info/about_us/board_of_trustees.php\">https://w
 ww.ssldl.info/about_us/board_of_trustees.php</a></p>
URL;VALUE=URI:https://events.getlocalhop.com/board-of-trustees-meeting/eve
 nt/32hA84PZcw/
END:VEVENT
BEGIN:VEVENT
UID:event-instance-RnGgPcoow4@events.getlocalhop.com
SEQUENCE:0
DTSTAMP:20260422T134121Z
DTSTART:20270126T000000Z
DTEND:20270126T010000Z
SUMMARY:Board of Trustees Meeting
LOCATION:9800 Pontiac Trl South Lyon\, MI 48178
DESCRIPTION:<p>Monthly Library Board of Trustees meeting. Public is welcom
 e and encouraged to attend. This meeting is currently scheduled to take pl
 ace in-person. For more information about the Board of Trustees\, visit: <
 a href=\"https://www.ssldl.info/about_us/board_of_trustees.php\">https://w
 ww.ssldl.info/about_us/board_of_trustees.php</a></p>
URL;VALUE=URI:https://events.getlocalhop.com/board-of-trustees-meeting/eve
 nt/32hA84PZcw/
END:VEVENT
BEGIN:VEVENT
UID:event-instance-5Eg1Bnxqjg@events.getlocalhop.com
SEQUENCE:0
DTSTAMP:20260422T134121Z
DTSTART:20270223T000000Z
DTEND:20270223T010000Z
SUMMARY:Board of Trustees Meeting
LOCATION:9800 Pontiac Trl South Lyon\, MI 48178
DESCRIPTION:<p>Monthly Library Board of Trustees meeting. Public is welcom
 e and encouraged to attend. This meeting is currently scheduled to take pl
 ace in-person. For more information about the Board of Trustees\, visit: <
 a href=\"https://www.ssldl.info/about_us/board_of_trustees.php\">https://w
 ww.ssldl.info/about_us/board_of_trustees.php</a></p>
URL;VALUE=URI:https://events.getlocalhop.com/board-of-trustees-meeting/eve
 nt/32hA84PZcw/
END:VEVENT
BEGIN:VEVENT
UID:event-instance-BNLrwxaIC4@events.getlocalhop.com
SEQUENCE:0
DTSTAMP:20260422T134121Z
DTSTART:20270329T230000Z
DTEND:20270330T000000Z
SUMMARY:Board of Trustees Meeting
LOCATION:9800 Pontiac Trl South Lyon\, MI 48178
DESCRIPTION:<p>Monthly Library Board of Trustees meeting. Public is welcom
 e and encouraged to attend. This meeting is currently scheduled to take pl
 ace in-person. For more information about the Board of Trustees\, visit: <
 a href=\"https://www.ssldl.info/about_us/board_of_trustees.php\">https://w
 ww.ssldl.info/about_us/board_of_trustees.php</a></p>
URL;VALUE=URI:https://events.getlocalhop.com/board-of-trustees-meeting/eve
 nt/32hA84PZcw/
END:VEVENT
BEGIN:VEVENT
UID:event-instance-zsUduAoJq3@events.getlocalhop.com
SEQUENCE:0
DTSTAMP:20260422T134121Z
DTSTART:20270426T230000Z
DTEND:20270427T000000Z
SUMMARY:Board of Trustees Meeting
LOCATION:9800 Pontiac Trl South Lyon\, MI 48178
DESCRIPTION:<p>Monthly Library Board of Trustees meeting. Public is welcom
 e and encouraged to attend. This meeting is currently scheduled to take pl
 ace in-person. For more information about the Board of Trustees\, visit: <
 a href=\"https://www.ssldl.info/about_us/board_of_trustees.php\">https://w
 ww.ssldl.info/about_us/board_of_trustees.php</a></p>
URL;VALUE=URI:https://events.getlocalhop.com/board-of-trustees-meeting/eve
 nt/32hA84PZcw/
END:VEVENT
BEGIN:VEVENT
UID:event-instance-EWlOot60vG@events.getlocalhop.com
SEQUENCE:0
DTSTAMP:20260422T134121Z
DTSTART:20270524T230000Z
DTEND:20270525T000000Z
SUMMARY:Board of Trustees Meeting
LOCATION:9800 Pontiac Trl South Lyon\, MI 48178
DESCRIPTION:<p>Monthly Library Board of Trustees meeting. Public is welcom
 e and encouraged to attend. This meeting is currently scheduled to take pl
 ace in-person. For more information about the Board of Trustees\, visit: <
 a href=\"https://www.ssldl.info/about_us/board_of_trustees.php\">https://w
 ww.ssldl.info/about_us/board_of_trustees.php</a></p>
URL;VALUE=URI:https://events.getlocalhop.com/board-of-trustees-meeting/eve
 nt/32hA84PZcw/
END:VEVENT
BEGIN:VEVENT
UID:event-instance-1oxnfMy4ce@events.getlocalhop.com
SEQUENCE:0
DTSTAMP:20260422T134121Z
DTSTART:20270628T230000Z
DTEND:20270629T000000Z
SUMMARY:Board of Trustees Meeting
LOCATION:9800 Pontiac Trl South Lyon\, MI 48178
DESCRIPTION:<p>Monthly Library Board of Trustees meeting. Public is welcom
 e and encouraged to attend. This meeting is currently scheduled to take pl
 ace in-person. For more information about the Board of Trustees\, visit: <
 a href=\"https://www.ssldl.info/about_us/board_of_trustees.php\">https://w
 ww.ssldl.info/about_us/board_of_trustees.php</a></p>
URL;VALUE=URI:https://events.getlocalhop.com/board-of-trustees-meeting/eve
 nt/32hA84PZcw/
END:VEVENT
BEGIN:VEVENT
UID:event-instance-AWnPB1eCs8@events.getlocalhop.com
SEQUENCE:0
DTSTAMP:20260422T134121Z
DTSTART:20270726T230000Z
DTEND:20270727T000000Z
SUMMARY:Board of Trustees Meeting
LOCATION:9800 Pontiac Trl South Lyon\, MI 48178
DESCRIPTION:<p>Monthly Library Board of Trustees meeting. Public is welcom
 e and encouraged to attend. This meeting is currently scheduled to take pl
 ace in-person. For more information about the Board of Trustees\, visit: <
 a href=\"https://www.ssldl.info/about_us/board_of_trustees.php\">https://w
 ww.ssldl.info/about_us/board_of_trustees.php</a></p>
URL;VALUE=URI:https://events.getlocalhop.com/board-of-trustees-meeting/eve
 nt/32hA84PZcw/
END:VEVENT
BEGIN:VEVENT
UID:event-instance-U2mtIdp54I@events.getlocalhop.com
SEQUENCE:0
DTSTAMP:20260422T134121Z
DTSTART:20270830T230000Z
DTEND:20270831T000000Z
SUMMARY:Board of Trustees Meeting
LOCATION:9800 Pontiac Trl South Lyon\, MI 48178
DESCRIPTION:<p>Monthly Library Board of Trustees meeting. Public is welcom
 e and encouraged to attend. This meeting is currently scheduled to take pl
 ace in-person. For more information about the Board of Trustees\, visit: <
 a href=\"https://www.ssldl.info/about_us/board_of_trustees.php\">https://w
 ww.ssldl.info/about_us/board_of_trustees.php</a></p>
URL;VALUE=URI:https://events.getlocalhop.com/board-of-trustees-meeting/eve
 nt/32hA84PZcw/
END:VEVENT
BEGIN:VEVENT
UID:event-instance-5dItgArLFm@events.getlocalhop.com
SEQUENCE:0
DTSTAMP:20260422T134121Z
DTSTART:20270927T230000Z
DTEND:20270928T000000Z
SUMMARY:Board of Trustees Meeting
LOCATION:9800 Pontiac Trl South Lyon\, MI 48178
DESCRIPTION:<p>Monthly Library Board of Trustees meeting. Public is welcom
 e and encouraged to attend. This meeting is currently scheduled to take pl
 ace in-person. For more information about the Board of Trustees\, visit: <
 a href=\"https://www.ssldl.info/about_us/board_of_trustees.php\">https://w
 ww.ssldl.info/about_us/board_of_trustees.php</a></p>
URL;VALUE=URI:https://events.getlocalhop.com/board-of-trustees-meeting/eve
 nt/32hA84PZcw/
END:VEVENT
BEGIN:VEVENT
UID:event-instance-LETiNAviMk@events.getlocalhop.com
SEQUENCE:0
DTSTAMP:20260422T134121Z
DTSTART:20271025T230000Z
DTEND:20271026T000000Z
SUMMARY:Board of Trustees Meeting
LOCATION:9800 Pontiac Trl South Lyon\, MI 48178
DESCRIPTION:<p>Monthly Library Board of Trustees meeting. Public is welcom
 e and encouraged to attend. This meeting is currently scheduled to take pl
 ace in-person. For more information about the Board of Trustees\, visit: <
 a href=\"https://www.ssldl.info/about_us/board_of_trustees.php\">https://w
 ww.ssldl.info/about_us/board_of_trustees.php</a></p>
URL;VALUE=URI:https://events.getlocalhop.com/board-of-trustees-meeting/eve
 nt/32hA84PZcw/
END:VEVENT
BEGIN:VEVENT
UID:event-instance-j1YRB6qufy@events.getlocalhop.com
SEQUENCE:0
DTSTAMP:20260422T134121Z
DTSTART:20271130T000000Z
DTEND:20271130T010000Z
SUMMARY:Board of Trustees Meeting
LOCATION:9800 Pontiac Trl South Lyon\, MI 48178
DESCRIPTION:<p>Monthly Library Board of Trustees meeting. Public is welcom
 e and encouraged to attend. This meeting is currently scheduled to take pl
 ace in-person. For more information about the Board of Trustees\, visit: <
 a href=\"https://www.ssldl.info/about_us/board_of_trustees.php\">https://w
 ww.ssldl.info/about_us/board_of_trustees.php</a></p>
URL;VALUE=URI:https://events.getlocalhop.com/board-of-trustees-meeting/eve
 nt/32hA84PZcw/
END:VEVENT
BEGIN:VEVENT
UID:event-instance-Cz5a6ceZoO@events.getlocalhop.com
SEQUENCE:0
DTSTAMP:20260422T134121Z
DTSTART:20280125T000000Z
DTEND:20280125T010000Z
SUMMARY:Board of Trustees Meeting
LOCATION:9800 Pontiac Trl South Lyon\, MI 48178
DESCRIPTION:<p>Monthly Library Board of Trustees meeting. Public is welcom
 e and encouraged to attend. This meeting is currently scheduled to take pl
 ace in-person. For more information about the Board of Trustees\, visit: <
 a href=\"https://www.ssldl.info/about_us/board_of_trustees.php\">https://w
 ww.ssldl.info/about_us/board_of_trustees.php</a></p>
URL;VALUE=URI:https://events.getlocalhop.com/board-of-trustees-meeting/eve
 nt/32hA84PZcw/
END:VEVENT
BEGIN:VEVENT
UID:event-instance-btT7tzAQmE@events.getlocalhop.com
SEQUENCE:0
DTSTAMP:20260422T134121Z
DTSTART:20280229T000000Z
DTEND:20280229T010000Z
SUMMARY:Board of Trustees Meeting
LOCATION:9800 Pontiac Trl South Lyon\, MI 48178
DESCRIPTION:<p>Monthly Library Board of Trustees meeting. Public is welcom
 e and encouraged to attend. This meeting is currently scheduled to take pl
 ace in-person. For more information about the Board of Trustees\, visit: <
 a href=\"https://www.ssldl.info/about_us/board_of_trustees.php\">https://w
 ww.ssldl.info/about_us/board_of_trustees.php</a></p>
URL;VALUE=URI:https://events.getlocalhop.com/board-of-trustees-meeting/eve
 nt/32hA84PZcw/
END:VEVENT
BEGIN:VEVENT
UID:event-instance-v87V5tnCWr@events.getlocalhop.com
SEQUENCE:0
DTSTAMP:20260422T134121Z
DTSTART:20280327T230000Z
DTEND:20280328T000000Z
SUMMARY:Board of Trustees Meeting
LOCATION:9800 Pontiac Trl South Lyon\, MI 48178
DESCRIPTION:<p>Monthly Library Board of Trustees meeting. Public is welcom
 e and encouraged to attend. This meeting is currently scheduled to take pl
 ace in-person. For more information about the Board of Trustees\, visit: <
 a href=\"https://www.ssldl.info/about_us/board_of_trustees.php\">https://w
 ww.ssldl.info/about_us/board_of_trustees.php</a></p>
URL;VALUE=URI:https://events.getlocalhop.com/board-of-trustees-meeting/eve
 nt/32hA84PZcw/
END:VEVENT
BEGIN:VEVENT
UID:event-instance-A4835BCA0i@events.getlocalhop.com
SEQUENCE:0
DTSTAMP:20260422T134121Z
DTSTART:20280424T230000Z
DTEND:20280425T000000Z
SUMMARY:Board of Trustees Meeting
LOCATION:9800 Pontiac Trl South Lyon\, MI 48178
DESCRIPTION:<p>Monthly Library Board of Trustees meeting. Public is welcom
 e and encouraged to attend. This meeting is currently scheduled to take pl
 ace in-person. For more information about the Board of Trustees\, visit: <
 a href=\"https://www.ssldl.info/about_us/board_of_trustees.php\">https://w
 ww.ssldl.info/about_us/board_of_trustees.php</a></p>
URL;VALUE=URI:https://events.getlocalhop.com/board-of-trustees-meeting/eve
 nt/32hA84PZcw/
END:VEVENT
BEGIN:VEVENT
UID:event-instance-4Y7AkJ7hXK@events.getlocalhop.com
SEQUENCE:0
DTSTAMP:20260422T134121Z
DTSTART:20280522T230000Z
DTEND:20280523T000000Z
SUMMARY:Board of Trustees Meeting
LOCATION:9800 Pontiac Trl South Lyon\, MI 48178
DESCRIPTION:<p>Monthly Library Board of Trustees meeting. Public is welcom
 e and encouraged to attend. This meeting is currently scheduled to take pl
 ace in-person. For more information about the Board of Trustees\, visit: <
 a href=\"https://www.ssldl.info/about_us/board_of_trustees.php\">https://w
 ww.ssldl.info/about_us/board_of_trustees.php</a></p>
URL;VALUE=URI:https://events.getlocalhop.com/board-of-trustees-meeting/eve
 nt/32hA84PZcw/
END:VEVENT
BEGIN:VEVENT
UID:event-instance-TrwxEZDZqw@events.getlocalhop.com
SEQUENCE:0
DTSTAMP:20260422T134121Z
DTSTART:20280626T230000Z
DTEND:20280627T000000Z
SUMMARY:Board of Trustees Meeting
LOCATION:9800 Pontiac Trl South Lyon\, MI 48178
DESCRIPTION:<p>Monthly Library Board of Trustees meeting. Public is welcom
 e and encouraged to attend. This meeting is currently scheduled to take pl
 ace in-person. For more information about the Board of Trustees\, visit: <
 a href=\"https://www.ssldl.info/about_us/board_of_trustees.php\">https://w
 ww.ssldl.info/about_us/board_of_trustees.php</a></p>
URL;VALUE=URI:https://events.getlocalhop.com/board-of-trustees-meeting/eve
 nt/32hA84PZcw/
END:VEVENT
BEGIN:VEVENT
UID:event-instance-84h2pGgN7p@events.getlocalhop.com
SEQUENCE:0
DTSTAMP:20260422T134121Z
DTSTART:20280724T230000Z
DTEND:20280725T000000Z
SUMMARY:Board of Trustees Meeting
LOCATION:9800 Pontiac Trl South Lyon\, MI 48178
DESCRIPTION:<p>Monthly Library Board of Trustees meeting. Public is welcom
 e and encouraged to attend. This meeting is currently scheduled to take pl
 ace in-person. For more information about the Board of Trustees\, visit: <
 a href=\"https://www.ssldl.info/about_us/board_of_trustees.php\">https://w
 ww.ssldl.info/about_us/board_of_trustees.php</a></p>
URL;VALUE=URI:https://events.getlocalhop.com/board-of-trustees-meeting/eve
 nt/32hA84PZcw/
END:VEVENT
BEGIN:VEVENT
UID:event-instance-R0FZ0ypV3J@events.getlocalhop.com
SEQUENCE:0
DTSTAMP:20260422T134121Z
DTSTART:20280828T230000Z
DTEND:20280829T000000Z
SUMMARY:Board of Trustees Meeting
LOCATION:9800 Pontiac Trl South Lyon\, MI 48178
DESCRIPTION:<p>Monthly Library Board of Trustees meeting. Public is welcom
 e and encouraged to attend. This meeting is currently scheduled to take pl
 ace in-person. For more information about the Board of Trustees\, visit: <
 a href=\"https://www.ssldl.info/about_us/board_of_trustees.php\">https://w
 ww.ssldl.info/about_us/board_of_trustees.php</a></p>
URL;VALUE=URI:https://events.getlocalhop.com/board-of-trustees-meeting/eve
 nt/32hA84PZcw/
END:VEVENT
BEGIN:VEVENT
UID:event-instance-SpJgNiA03H@events.getlocalhop.com
SEQUENCE:0
DTSTAMP:20260422T134121Z
DTSTART:20280925T230000Z
DTEND:20280926T000000Z
SUMMARY:Board of Trustees Meeting
LOCATION:9800 Pontiac Trl South Lyon\, MI 48178
DESCRIPTION:<p>Monthly Library Board of Trustees meeting. Public is welcom
 e and encouraged to attend. This meeting is currently scheduled to take pl
 ace in-person. For more information about the Board of Trustees\, visit: <
 a href=\"https://www.ssldl.info/about_us/board_of_trustees.php\">https://w
 ww.ssldl.info/about_us/board_of_trustees.php</a></p>
URL;VALUE=URI:https://events.getlocalhop.com/board-of-trustees-meeting/eve
 nt/32hA84PZcw/
END:VEVENT
BEGIN:VEVENT
UID:event-instance-mmWNF1zImC@events.getlocalhop.com
SEQUENCE:0
DTSTAMP:20260422T134121Z
DTSTART:20281023T230000Z
DTEND:20281024T000000Z
SUMMARY:Board of Trustees Meeting
LOCATION:9800 Pontiac Trl South Lyon\, MI 48178
DESCRIPTION:<p>Monthly Library Board of Trustees meeting. Public is welcom
 e and encouraged to attend. This meeting is currently scheduled to take pl
 ace in-person. For more information about the Board of Trustees\, visit: <
 a href=\"https://www.ssldl.info/about_us/board_of_trustees.php\">https://w
 ww.ssldl.info/about_us/board_of_trustees.php</a></p>
URL;VALUE=URI:https://events.getlocalhop.com/board-of-trustees-meeting/eve
 nt/32hA84PZcw/
END:VEVENT
BEGIN:VEVENT
UID:event-instance-xarff7hjSq@events.getlocalhop.com
SEQUENCE:0
DTSTAMP:20260422T134121Z
DTSTART:20281128T000000Z
DTEND:20281128T010000Z
SUMMARY:Board of Trustees Meeting
LOCATION:9800 Pontiac Trl South Lyon\, MI 48178
DESCRIPTION:<p>Monthly Library Board of Trustees meeting. Public is welcom
 e and encouraged to attend. This meeting is currently scheduled to take pl
 ace in-person. For more information about the Board of Trustees\, visit: <
 a href=\"https://www.ssldl.info/about_us/board_of_trustees.php\">https://w
 ww.ssldl.info/about_us/board_of_trustees.php</a></p>
URL;VALUE=URI:https://events.getlocalhop.com/board-of-trustees-meeting/eve
 nt/32hA84PZcw/
END:VEVENT
BEGIN:VEVENT
UID:event-instance-pOK1YbTjb8@events.getlocalhop.com
SEQUENCE:0
DTSTAMP:20260422T134121Z
DTSTART:20290130T000000Z
DTEND:20290130T010000Z
SUMMARY:Board of Trustees Meeting
LOCATION:9800 Pontiac Trl South Lyon\, MI 48178
DESCRIPTION:<p>Monthly Library Board of Trustees meeting. Public is welcom
 e and encouraged to attend. This meeting is currently scheduled to take pl
 ace in-person. For more information about the Board of Trustees\, visit: <
 a href=\"https://www.ssldl.info/about_us/board_of_trustees.php\">https://w
 ww.ssldl.info/about_us/board_of_trustees.php</a></p>
URL;VALUE=URI:https://events.getlocalhop.com/board-of-trustees-meeting/eve
 nt/32hA84PZcw/
END:VEVENT
BEGIN:VEVENT
UID:event-instance-7ZGvLT7e2O@events.getlocalhop.com
SEQUENCE:0
DTSTAMP:20260422T134121Z
DTSTART:20290227T000000Z
DTEND:20290227T010000Z
SUMMARY:Board of Trustees Meeting
LOCATION:9800 Pontiac Trl South Lyon\, MI 48178
DESCRIPTION:<p>Monthly Library Board of Trustees meeting. Public is welcom
 e and encouraged to attend. This meeting is currently scheduled to take pl
 ace in-person. For more information about the Board of Trustees\, visit: <
 a href=\"https://www.ssldl.info/about_us/board_of_trustees.php\">https://w
 ww.ssldl.info/about_us/board_of_trustees.php</a></p>
URL;VALUE=URI:https://events.getlocalhop.com/board-of-trustees-meeting/eve
 nt/32hA84PZcw/
END:VEVENT
BEGIN:VEVENT
UID:event-instance-6dmEVY55O0@events.getlocalhop.com
SEQUENCE:0
DTSTAMP:20260422T134121Z
DTSTART:20290326T230000Z
DTEND:20290327T000000Z
SUMMARY:Board of Trustees Meeting
LOCATION:9800 Pontiac Trl South Lyon\, MI 48178
DESCRIPTION:<p>Monthly Library Board of Trustees meeting. Public is welcom
 e and encouraged to attend. This meeting is currently scheduled to take pl
 ace in-person. For more information about the Board of Trustees\, visit: <
 a href=\"https://www.ssldl.info/about_us/board_of_trustees.php\">https://w
 ww.ssldl.info/about_us/board_of_trustees.php</a></p>
URL;VALUE=URI:https://events.getlocalhop.com/board-of-trustees-meeting/eve
 nt/32hA84PZcw/
END:VEVENT
BEGIN:VEVENT
UID:event-instance-x4azdb9CYu@events.getlocalhop.com
SEQUENCE:0
DTSTAMP:20260422T134121Z
DTSTART:20290430T230000Z
DTEND:20290501T000000Z
SUMMARY:Board of Trustees Meeting
LOCATION:9800 Pontiac Trl South Lyon\, MI 48178
DESCRIPTION:<p>Monthly Library Board of Trustees meeting. Public is welcom
 e and encouraged to attend. This meeting is currently scheduled to take pl
 ace in-person. For more information about the Board of Trustees\, visit: <
 a href=\"https://www.ssldl.info/about_us/board_of_trustees.php\">https://w
 ww.ssldl.info/about_us/board_of_trustees.php</a></p>
URL;VALUE=URI:https://events.getlocalhop.com/board-of-trustees-meeting/eve
 nt/32hA84PZcw/
END:VEVENT
BEGIN:VEVENT
UID:event-instance-rnIMOADZb3@events.getlocalhop.com
SEQUENCE:0
DTSTAMP:20260422T134121Z
DTSTART:20290528T230000Z
DTEND:20290529T000000Z
SUMMARY:Board of Trustees Meeting
LOCATION:9800 Pontiac Trl South Lyon\, MI 48178
DESCRIPTION:<p>Monthly Library Board of Trustees meeting. Public is welcom
 e and encouraged to attend. This meeting is currently scheduled to take pl
 ace in-person. For more information about the Board of Trustees\, visit: <
 a href=\"https://www.ssldl.info/about_us/board_of_trustees.php\">https://w
 ww.ssldl.info/about_us/board_of_trustees.php</a></p>
URL;VALUE=URI:https://events.getlocalhop.com/board-of-trustees-meeting/eve
 nt/32hA84PZcw/
END:VEVENT
BEGIN:VEVENT
UID:event-instance-Go9gaT79Ia@events.getlocalhop.com
SEQUENCE:0
DTSTAMP:20260422T134121Z
DTSTART:20290625T230000Z
DTEND:20290626T000000Z
SUMMARY:Board of Trustees Meeting
LOCATION:9800 Pontiac Trl South Lyon\, MI 48178
DESCRIPTION:<p>Monthly Library Board of Trustees meeting. Public is welcom
 e and encouraged to attend. This meeting is currently scheduled to take pl
 ace in-person. For more information about the Board of Trustees\, visit: <
 a href=\"https://www.ssldl.info/about_us/board_of_trustees.php\">https://w
 ww.ssldl.info/about_us/board_of_trustees.php</a></p>
URL;VALUE=URI:https://events.getlocalhop.com/board-of-trustees-meeting/eve
 nt/32hA84PZcw/
END:VEVENT
BEGIN:VEVENT
UID:event-instance-Cb1e6Ve3W3@events.getlocalhop.com
SEQUENCE:0
DTSTAMP:20260422T134121Z
DTSTART:20290723T230000Z
DTEND:20290724T000000Z
SUMMARY:Board of Trustees Meeting
LOCATION:9800 Pontiac Trl South Lyon\, MI 48178
DESCRIPTION:<p>Monthly Library Board of Trustees meeting. Public is welcom
 e and encouraged to attend. This meeting is currently scheduled to take pl
 ace in-person. For more information about the Board of Trustees\, visit: <
 a href=\"https://www.ssldl.info/about_us/board_of_trustees.php\">https://w
 ww.ssldl.info/about_us/board_of_trustees.php</a></p>
URL;VALUE=URI:https://events.getlocalhop.com/board-of-trustees-meeting/eve
 nt/32hA84PZcw/
END:VEVENT
BEGIN:VEVENT
UID:event-instance-zaf5iU4S8h@events.getlocalhop.com
SEQUENCE:0
DTSTAMP:20260422T134121Z
DTSTART:20290827T230000Z
DTEND:20290828T000000Z
SUMMARY:Board of Trustees Meeting
LOCATION:9800 Pontiac Trl South Lyon\, MI 48178
DESCRIPTION:<p>Monthly Library Board of Trustees meeting. Public is welcom
 e and encouraged to attend. This meeting is currently scheduled to take pl
 ace in-person. For more information about the Board of Trustees\, visit: <
 a href=\"https://www.ssldl.info/about_us/board_of_trustees.php\">https://w
 ww.ssldl.info/about_us/board_of_trustees.php</a></p>
URL;VALUE=URI:https://events.getlocalhop.com/board-of-trustees-meeting/eve
 nt/32hA84PZcw/
END:VEVENT
BEGIN:VEVENT
UID:event-instance-qgBJcGCd70@events.getlocalhop.com
SEQUENCE:0
DTSTAMP:20260422T134121Z
DTSTART:20290924T230000Z
DTEND:20290925T000000Z
SUMMARY:Board of Trustees Meeting
LOCATION:9800 Pontiac Trl South Lyon\, MI 48178
DESCRIPTION:<p>Monthly Library Board of Trustees meeting. Public is welcom
 e and encouraged to attend. This meeting is currently scheduled to take pl
 ace in-person. For more information about the Board of Trustees\, visit: <
 a href=\"https://www.ssldl.info/about_us/board_of_trustees.php\">https://w
 ww.ssldl.info/about_us/board_of_trustees.php</a></p>
URL;VALUE=URI:https://events.getlocalhop.com/board-of-trustees-meeting/eve
 nt/32hA84PZcw/
END:VEVENT
BEGIN:VEVENT
UID:event-instance-hhYODSwX86@events.getlocalhop.com
SEQUENCE:0
DTSTAMP:20260422T134121Z
DTSTART:20291022T230000Z
DTEND:20291023T000000Z
SUMMARY:Board of Trustees Meeting
LOCATION:9800 Pontiac Trl South Lyon\, MI 48178
DESCRIPTION:<p>Monthly Library Board of Trustees meeting. Public is welcom
 e and encouraged to attend. This meeting is currently scheduled to take pl
 ace in-person. For more information about the Board of Trustees\, visit: <
 a href=\"https://www.ssldl.info/about_us/board_of_trustees.php\">https://w
 ww.ssldl.info/about_us/board_of_trustees.php</a></p>
URL;VALUE=URI:https://events.getlocalhop.com/board-of-trustees-meeting/eve
 nt/32hA84PZcw/
END:VEVENT
BEGIN:VEVENT
UID:event-instance-pCz6EiOqWw@events.getlocalhop.com
SEQUENCE:0
DTSTAMP:20260422T134121Z
DTSTART:20291127T000000Z
DTEND:20291127T010000Z
SUMMARY:Board of Trustees Meeting
LOCATION:9800 Pontiac Trl South Lyon\, MI 48178
DESCRIPTION:<p>Monthly Library Board of Trustees meeting. Public is welcom
 e and encouraged to attend. This meeting is currently scheduled to take pl
 ace in-person. For more information about the Board of Trustees\, visit: <
 a href=\"https://www.ssldl.info/about_us/board_of_trustees.php\">https://w
 ww.ssldl.info/about_us/board_of_trustees.php</a></p>
URL;VALUE=URI:https://events.getlocalhop.com/board-of-trustees-meeting/eve
 nt/32hA84PZcw/
END:VEVENT
END:VCALENDAR