BEGIN:VCALENDAR
VERSION:2.0
PRODID:-//events.getlocalhop.com//localhop-calendar//EN
URL:https://api.getlocalhop.com/calendar?instance=fXAiYr5pLK&series=false
BEGIN:VEVENT
UID:event-instance-fXAiYr5pLK@events.getlocalhop.com
SEQUENCE:0
DTSTAMP:20260420T214021Z
DTSTART:20250304T220000Z
DTEND:20250304T233000Z
SUMMARY:Crochet Book Blanket (M)
LOCATION:Manistee County Library\, 95 Maple Street Manistee\, MI 49660
DESCRIPTION:<p>Love to read and make stuff? Learn a fun and creative way t
 o track your reading by designing your own Crochet Book Blanket! &nbsp\;We
  will make a simple granny square in colors inspired by what we're reading
  and explore many other styles of bookish crochet projects. &nbsp\;</p>\n<
 p>This beginner-friendly program is intended for adults. All supplies and 
 tools will be provided\; you are encouraged to bring your reading list or 
 a current read for inspiration. &nbsp\;</p>\n<p>&nbsp\;Registration is req
 uired.</p>\n<p>All Manistee County Library events are free and open to the
  public. No library card required.&nbsp\;</p>
URL;VALUE=URI:https://events.getlocalhop.com/crochet-book-blanket-m/event/
 tsC0X88soQ/
END:VEVENT
END:VCALENDAR