BEGIN:VCALENDAR
VERSION:2.0
PRODID:-//events.getlocalhop.com//localhop-calendar//EN
URL:https://api.getlocalhop.com/calendar?instance=fB5YnklXEA&series=false
BEGIN:VEVENT
UID:event-instance-fB5YnklXEA@events.getlocalhop.com
SEQUENCE:0
DTSTAMP:20260424T030116Z
DTSTART:20240227T223000Z
DTEND:20240227T233000Z
SUMMARY:Solar Eclipse 101
LOCATION:3900 White Lake Drive Whitehall\, MI 49461
DESCRIPTION:<p>Are you ready for this spring&rsquo\;s solar eclipse? NASA 
 Solar System Ambassador Joe Dermody will visit White Lake Community Librar
 y Tuesday\, February 27th\, at 5:30pm to share his knowledge in a presenta
 tion for all ages. Attendees will each receive a pair of eclipse glasses c
 ourtesy of StarNet and the Space Science Institute. Children&rsquo\;s acti
 vities related to the eclipse will also be available.</p>\n<p>&nbsp\;</p>\
 n<p>Mr. Dermody\, who has previously shared with our community the science
  and technology of the James Webb Space Telescope and the Artemis program\
 , will explain how to safely view an eclipse and describe past eclipses he
 &rsquo\;s viewed around the world. From West Michigan\, the April 8th ecli
 pse will only be partial\, but attendees will learn how to get the most of
  this rare celestial event.&nbsp\;</p>
URL;VALUE=URI:https://events.getlocalhop.com/solar-eclipse-101/event/554fU
 n0QHs/
END:VEVENT
END:VCALENDAR