BEGIN:VCALENDAR
VERSION:2.0
PRODID:-//events.getlocalhop.com//localhop-calendar//EN
URL:https://api.getlocalhop.com/calendar?instance=f1EL2PPHC0&series=false
BEGIN:VEVENT
UID:event-instance-f1EL2PPHC0@events.getlocalhop.com
SEQUENCE:0
DTSTAMP:20260420T231909Z
DTSTART:20250131T000000Z
DTEND:20250131T010000Z
SUMMARY:Books & Brews at North Channel
LOCATION:North Channel Brewing Company\, 86 Washington Street Manistee\, M
 I 49660
DESCRIPTION:<p><strong>FOR ADULTS 21 AND OVER!</strong></p>\n<p>Adults 21 
 and over are invited to join us at North Channel Brewing Company for the B
 ooks and Brews Book Club. Enjoy a brew with other literary lovers as we di
 scuss a selected book.</p>\n<p><br />Here's what's on tap:&nbsp\;<br />We'
 ll be reading the classic Shirley Jackson novel \"We Have Always Lived in 
 the Castle.\" These long winter nights are a perfect time to take in this 
 atmospheric gothic mystery that explores dark themes. This suspenseful sto
 ry clocks in at just around 200 pages\, so it will be a quick read. We thi
 nk this particular classic would pair wonderfully with a nice dark stout.&
 nbsp\;</p>\n<p><br />This event is free and open to the public. No library
  card required.&nbsp\;<br />Beer is not included but available for purchas
 e. Reservations are required.&nbsp\;</p>\n<p>&nbsp\;</p>
URL;VALUE=URI:https://events.getlocalhop.com/books-and-brews-at-north-chan
 nel/event/etMHZsZ8nq/
END:VEVENT
END:VCALENDAR