BEGIN:VCALENDAR
VERSION:2.0
PRODID:-//events.getlocalhop.com//localhop-calendar//EN
URL:https://api.getlocalhop.com/calendar?instance=f0W0r62s9C&series=false
BEGIN:VEVENT
UID:event-instance-f0W0r62s9C@events.getlocalhop.com
SEQUENCE:0
DTSTAMP:20260421T015300Z
DTSTART:20241120T233000Z
DTEND:20241121T010000Z
SUMMARY:Lego Night for Grown-Ups (M)
LOCATION:North Channel Brewing Company\, 86 Washington Street Manistee\, M
 I 49660
DESCRIPTION:<p><strong>FOR ADULTS 21 AND OVER!</strong></p>\n<p>&nbsp\;</p
 >\n<p>Manistee County Library is excited to team up with North Channel Bre
 wing Company to give you Lego Night for Grown-Ups. We'll provide the brick
 s\, some popular Lego kits as well as a few small bites. &nbsp\;</p>\n<p>&
 nbsp\;</p>\n<p>This free event is intended for adults age 21 and over. Bee
 r is not included. <strong>RESERVATIONS REQUIRED.</strong>&nbsp\;</p>\n<p>
 RSVP here online or call (231) 723-2519.&nbsp\;</p>
URL;VALUE=URI:https://events.getlocalhop.com/lego-night-for-grownups-m/eve
 nt/cl9Dm7T5vY/
END:VEVENT
END:VCALENDAR