BEGIN:VCALENDAR
VERSION:2.0
PRODID:-//events.getlocalhop.com//localhop-calendar//EN
URL:https://api.getlocalhop.com/calendar?instance=eEyuNwt1gd&series=false
BEGIN:VEVENT
UID:event-instance-eEyuNwt1gd@events.getlocalhop.com
SEQUENCE:0
DTSTAMP:20260420T110313Z
DTSTART:20260530T180000Z
DTEND:20260530T200000Z
SUMMARY:Sam Wrobel Wycinanki Papercutting -- Lecture and Demonstration\, f
 unded by the Passing It On Grant from LA Folklife
LOCATION:East Baton Rouge Parish Library\, 7711 Goodwood Blvd. Baton Rouge
 \, LA 70806
DESCRIPTION:<p>Join folk artist Sam Wr&oacute\;bel to learn about wycinank
 i (vee-chee-non-key)\, the Polish folk art of papercutting\, and make two 
 traditional-style cuttings of your own.</p>\n<p>&nbsp\;</p>\n<p>With just 
 paper and scissors\, you'll be amazed at the vibrant beauty you can create
 ! No experience is necessary&mdash\;just bring your creativity! All suppli
 es will be provided. This class is for adults as well as kids 12 and up.</
 p>\n<p>&nbsp\;</p>\n<p>This workshop is offered for free thanks to the Pas
 sing It On grant from Louisiana Folklife. &nbsp\;The Passing It On Program
  is funded with support from the Louisiana Folklore Society\, the National
  Endowment for the Arts\, the Louisiana Division of the Arts and the Depar
 tment of Culture\, Recreation and Tourism.</p>\n<p>&nbsp\;</p>
URL;VALUE=URI:https://events.getlocalhop.com/sam-wrobel-wycinanki-papercut
 ting-lecture-and-demonstration-funded-by-the-passing-it-on-grant-from-la-f
 olklife/event/GtyLocuSNh/
END:VEVENT
END:VCALENDAR