BEGIN:VCALENDAR
VERSION:2.0
PRODID:-//events.getlocalhop.com//localhop-calendar//EN
URL:https://api.getlocalhop.com/calendar?instance=eDThzbz1sU&series=true
BEGIN:VEVENT
UID:event-instance-eDThzbz1sU@events.getlocalhop.com
SEQUENCE:0
DTSTAMP:20260419T120922Z
DTSTART:20260516T173000Z
DTEND:20260516T190000Z
SUMMARY:Silent Book Club
LOCATION:26300 Evergreen Road Southfield\, MI 48076\, 2nd Floor Fireplace
DESCRIPTION:<p>A stress free book club where you bring your own book to re
 ad and meet new people. TE</p>
URL;VALUE=URI:https://events.getlocalhop.com/silent-book-club/event/Y5w0cs
 nApF/
END:VEVENT
END:VCALENDAR