BEGIN:VCALENDAR
VERSION:2.0
PRODID:-//events.getlocalhop.com//localhop-calendar//EN
URL:https://api.getlocalhop.com/calendar?instance=eD2T1O1hEy&series=false
BEGIN:VEVENT
UID:event-instance-eD2T1O1hEy@events.getlocalhop.com
SEQUENCE:0
DTSTAMP:20260423T152651Z
DTSTART:20260723T180000Z
DTEND:20260723T190000Z
SUMMARY:Disappearing Log at Jacobsburg Environmental Education Center
LOCATION:400 Belfast Rd Nazareth\, PA 18064
DESCRIPTION:<p>We will meet at Jacobsburg Environmental Education Center t
 o explore fallen logs with an environmental educator. We will look for evi
 dence of how the logs matter are changing form. We will engage in discussi
 on and use an evidence key to develop explanations for the state of the fa
 llen trees. For children entering third through sixth grades. Registration
  is required and space is limited.</p>
URL;VALUE=URI:https://events.getlocalhop.com/disappearing-log-at-jacobsbur
 g-environmental-education-center/event/8TuoEKKK38/
END:VEVENT
END:VCALENDAR