BEGIN:VCALENDAR
VERSION:2.0
PRODID:-//events.getlocalhop.com//localhop-calendar//EN
URL:https://api.getlocalhop.com/calendar?instance=dKDQnBntGs&series=false
BEGIN:VEVENT
UID:event-instance-dKDQnBntGs@events.getlocalhop.com
SEQUENCE:0
DTSTAMP:20260420T110017Z
DTSTART:20231004T213000Z
DTEND:20231004T233000Z
SUMMARY:Friends of the Library Book and Bake Sale (Pre-sale for Friends me
 mbers)
LOCATION:12000 Davisburg Rd Davisburg\, MI 48350
DESCRIPTION:<p>Join us for used books and freshly baked delights! The Frie
 nds of the Springfield Township Library are hosting a Used Book and Bake S
 ale. The sale will be held Wednesday\, October 4 through Saturday\, Octobe
 r 7. There will also be baked goods for sale.&nbsp\;</p>\n<p>&nbsp\;</p>\n
 <ul>\n<li>October 4\, 5:30 - 7:30 PM\n<ul>\n<li>Pre-sale for Friends membe
 rs (memberships sold at door)</li>\n</ul>\n</li>\n<li>October 5\, 10 - 8\n
 <ul>\n<li>No scanners from 10 AM to 12 PM&nbsp\;</li>\n</ul>\n</li>\n<li>O
 ctober 6\, 10 - 6\n<ul>\n<li>No scanners from 10 AM to 12 PM&nbsp\;</li>\n
 </ul>\n</li>\n<li>October 7\, 10 - Noon\n<ul>\n<li>Last Day (Bag of Books 
 Sale)</li>\n</ul>\n</li>\n</ul>
URL;VALUE=URI:https://events.getlocalhop.com/friends-of-the-library-book-a
 nd-bake-sale-presale-for-friends-members/event/aL95wx91W5/
END:VEVENT
END:VCALENDAR