BEGIN:VCALENDAR
VERSION:2.0
PRODID:-//events.getlocalhop.com//localhop-calendar//EN
URL:https://api.getlocalhop.com/calendar?instance=dAM2I9gPHp&series=false
BEGIN:VEVENT
UID:event-instance-dAM2I9gPHp@events.getlocalhop.com
SEQUENCE:0
DTSTAMP:20260421T042108Z
DTSTART:20241022T213000Z
DTEND:20241022T220000Z
SUMMARY:Hallo-STEAM for Kids 8 & Up (K)
LOCATION:Manistee County Library - Kaleva Branch\, 14618 Walta St. Kaleva\
 , MI 49645
DESCRIPTION:<p>Kids ages 8 and up are invited to join us for a fun Hallowe
 en themed science experiment. Kids will learn about liquid density and wha
 t happens when oil and water mix. They will get to make and take home thei
 r very own lava lamp!&nbsp\;</p>\n<p>&nbsp\;</p>\n<p>Registration required
 . Please register online or call 231-362-3178.</p>
URL;VALUE=URI:https://events.getlocalhop.com/hallosteam-for-kids-8-and-up-
 k/event/QAVwYgLF8v/
END:VEVENT
END:VCALENDAR