BEGIN:VCALENDAR
VERSION:2.0
PRODID:-//events.getlocalhop.com//localhop-calendar//EN
URL:https://api.getlocalhop.com/calendar?instance=d7DtyBOBMB&series=false
BEGIN:VEVENT
UID:event-instance-d7DtyBOBMB@events.getlocalhop.com
SEQUENCE:0
DTSTAMP:20260426T011615Z
DTSTART:20230615T200000Z
DTEND:20230615T210000Z
SUMMARY:Behind the Scenes Library Tour
LOCATION:300 West Merrill Street Birmingham\, MI 48009\, Vestibule
DESCRIPTION:<p>Join Director Rebekah Craft for a behind the scenes tour of
  the library. You'll visit staff areas\, learn how items are added to the 
 collection\, and hear about new programs and services. The tour will meet 
 in the vestibule.</p>
URL;VALUE=URI:https://events.getlocalhop.com/behind-the-scenes-library-tou
 r/event/emR4DGv726/
END:VEVENT
END:VCALENDAR