BEGIN:VCALENDAR
VERSION:2.0
PRODID:-//events.getlocalhop.com//localhop-calendar//EN
URL:https://api.getlocalhop.com/calendar?instance=cSdMP9t0G4&series=false
BEGIN:VEVENT
UID:event-instance-cSdMP9t0G4@events.getlocalhop.com
SEQUENCE:0
DTSTAMP:20260423T165814Z
DTSTART:20250930T233000Z
DTEND:20251001T003000Z
SUMMARY:CrafTEEN: Pumpkin Spice Latte Slime
LOCATION:Washington District Library\, 380 N. Wilmor Rd. Washington\, IL 6
 1571\, Meeting Room
DESCRIPTION:<p>Sign-up to make a different craft on the last Tuesday of th
 e month!</p>\n<p>Grades: 6-12\; Drop Off Event</p>
URL;VALUE=URI:https://events.getlocalhop.com/crafteen-pumpkin-spice-latte-
 slime/event/t2n8wNimd8/
END:VEVENT
END:VCALENDAR