BEGIN:VCALENDAR
VERSION:2.0
PRODID:-//events.getlocalhop.com//localhop-calendar//EN
URL:https://api.getlocalhop.com/calendar?instance=cK8ro9UcZx&series=false
BEGIN:VEVENT
UID:event-instance-cK8ro9UcZx@events.getlocalhop.com
SEQUENCE:0
DTSTAMP:20260421T114144Z
DTSTART:20241202T233000Z
DTEND:20241203T003000Z
SUMMARY:Book Chat: Holiday Gift Giving
LOCATION:Greenwood Public Library\, 310 S. Meridian Greenwood\, IN 46143
DESCRIPTION:<p>Join us for an evening of books. ALL the books. We'll share
  with you some end-of-year releases that should be on your reading radar f
 or yourself and for gifting. We'll also include some cute ideas for creati
 ng book flights and share bookish gifts for the readers in your life. We'l
 l have holiday themed appetizers and beverages\, and all attendees will be
  eligible for the bookish prize that will be raffled off at the end of the
  program!&nbsp\;</p>
URL;VALUE=URI:https://events.getlocalhop.com/book-chat-holiday-gift-giving
 /event/b1BUyxo7bg/
END:VEVENT
END:VCALENDAR