BEGIN:VCALENDAR
VERSION:2.0
PRODID:-//events.getlocalhop.com//localhop-calendar//EN
URL:https://api.getlocalhop.com/calendar?instance=c0bdruSidQ&series=false
BEGIN:VEVENT
UID:event-instance-c0bdruSidQ@events.getlocalhop.com
SEQUENCE:0
DTSTAMP:20260422T164358Z
DTSTART;VALUE=DATE:20210713
DTEND;VALUE=DATE:20210714
X-MICROSOFT-CDO-ALLDAYEVENT:TRUE
X-MICROSOFT-MSNCALENDAR-ALLDAYEVENT:TRUE
SUMMARY:Take and Make DIY Thaumatrope
LOCATION:RHPL\, 500 Olde Towne Rd. Rochester\, MI 48307\, Pick up at the A
 dult Reference Desk on the 2nd floor or at the drive-up window.
DESCRIPTION:Tuesday\, July 13 all day\nPick up at the Adult Reference Desk
  on the 2nd floor or at the drive-up window.\n\nRegister for this take and
  make project of a DIY Thaumatrope. What is a thaumatrope? \n\nThau´ma`tro
 pe   Pronunciation: thạ´må`trōp\nn.\n1.\n(Opt.) An optical instrument or t
 oy for showing the persistence of an impression upon the eyes after the lu
 minous object is withdrawn. (webster’s dictionary)\n\nBasically it is a Vi
 ctorian toy that combines two images when it is twirled. A fun STEAM proje
 ct for all ages. All supplies and directions are included. Pick up the sup
 plies on July 13th and then make it at home when you have time. Post your 
 pictures of the finished project #RHPLtakenmake #RHPLThaumatrope.\n\nRegis
 ter at our events calendar. Supplies are limited.
URL;VALUE=URI:https://events.getlocalhop.com/take-and-make-diy-thaumatrope
 /event/zcxYdXBknE/
END:VEVENT
END:VCALENDAR