BEGIN:VCALENDAR
VERSION:2.0
PRODID:-//events.getlocalhop.com//localhop-calendar//EN
URL:https://api.getlocalhop.com/calendar?instance=bPxVRalJaI&series=false
BEGIN:VEVENT
UID:event-instance-bPxVRalJaI@events.getlocalhop.com
SEQUENCE:0
DTSTAMP:20260423T153558Z
DTSTART:20260611T220000Z
DTEND:20260611T230000Z
SUMMARY:Historic European Martial Arts Demonstration
LOCATION:Emmaus Public Library\, 11 East Main Street Emmaus\, PA 18049\, F
 ront Lawn of the Library
DESCRIPTION:<p>Do you love to watch people fighting with swords?&nbsp\; Di
 d you know there was a space you could learn in the Lehigh Valley?</p>\n<p
 >HEMA\, the Historic European Martial Arts group in Bethlehem will present
  a demonstration on the Emmaus Public Library lawn (weather permitting) on
  June 11th at 6 pm!</p>\n<p>All ages! No registration!</p>\n<p>Due to the 
 time of the event\, the Teen Writers Group will meet after the demonstrati
 on in the Margaret Knoll Gardner Lecture Room.</p>
URL;VALUE=URI:https://events.getlocalhop.com/historic-european-martial-art
 s-demonstration/event/Xp1ok5AGCz/
END:VEVENT
END:VCALENDAR