BEGIN:VCALENDAR
VERSION:2.0
PRODID:-//events.getlocalhop.com//localhop-calendar//EN
URL:https://api.getlocalhop.com/calendar?instance=bN4ml0224Y&series=false
BEGIN:VEVENT
UID:event-instance-bN4ml0224Y@events.getlocalhop.com
SEQUENCE:0
DTSTAMP:20260425T111449Z
DTSTART:20221208T160000Z
DTEND:20221208T163000Z
SUMMARY:Rhyme Time!
LOCATION:26300 Evergreen Road Southfield\, MI 48076\, Meeting Room
DESCRIPTION:<p>Rhyme Time is designed to teach preschoolers early literacy
  skills in preparation for reading. We'll be singing songs\, reading books
  and making rhymes. Please be considerate and mindful of health\, if you o
 r your child is not feeling well please stay home.&nbsp\; &nbsp\;MB</p>
URL;VALUE=URI:https://events.getlocalhop.com/rhyme-time/event/aeNVm4CAL3/
END:VEVENT
END:VCALENDAR