BEGIN:VCALENDAR
VERSION:2.0
PRODID:-//events.getlocalhop.com//localhop-calendar//EN
URL:https://api.getlocalhop.com/calendar?instance=bJOyJaaukp&series=false
BEGIN:VEVENT
UID:event-instance-bJOyJaaukp@events.getlocalhop.com
SEQUENCE:0
DTSTAMP:20260423T115502Z
DTSTART:20260427T140000Z
DTEND:20260427T190000Z
SUMMARY:Quilt with Sue
LOCATION:Scio Branch Library\, 331 W. Main St. Scio\, OH 43988
DESCRIPTION:<p>The Scio Branch Quilters welcome beginner and experienced q
 uilters to join them on Mondays at the Scio Branch Library from 10:00am-3:
 00pm. They will guide you through the &ldquo\;how-to&rdquo\;. Call 740-945
 -6811 to learn more.&nbsp\;</p>
URL;VALUE=URI:https://events.getlocalhop.com/quilt-with-sue/event/mkqBdZK4
 iB/
END:VEVENT
END:VCALENDAR