BEGIN:VCALENDAR
VERSION:2.0
PRODID:-//events.getlocalhop.com//localhop-calendar//EN
URL:https://api.getlocalhop.com/calendar?instance=b3XxAp7NSS&series=false
BEGIN:VEVENT
UID:event-instance-b3XxAp7NSS@events.getlocalhop.com
SEQUENCE:0
DTSTAMP:20260421T090330Z
DTSTART:20240801T180000Z
DTEND:20240801T190000Z
SUMMARY:Gut-Brain Connection with Centra Wellness (M)
LOCATION:Manistee County Library\, 95 Maple Street Manistee\, MI 49660\, M
 eeting Room
DESCRIPTION:<p>Come learn about the gut-brain connection\, and how the foo
 ds we eat affect not only our physical health but our mental health as wel
 l.</p>
URL;VALUE=URI:https://events.getlocalhop.com/gutbrain-connection-with-cent
 ra-wellness-m/event/G5qgRXNJC0/
END:VEVENT
END:VCALENDAR