BEGIN:VCALENDAR
VERSION:2.0
PRODID:-//events.getlocalhop.com//localhop-calendar//EN
URL:https://api.getlocalhop.com/calendar?instance=andwROGAYb&series=false
BEGIN:VEVENT
UID:event-instance-andwROGAYb@events.getlocalhop.com
SEQUENCE:0
DTSTAMP:20260419T120800Z
DTSTART:20260327T200000Z
DTEND:20260327T210000Z
SUMMARY:Little Songbirds
LOCATION:Wyomissing Public Library\, 9 Reading Blvd Wyomissing\, PA 19610
DESCRIPTION:<p>Enjoy music and dance with Amanda Cardinal! Sing\, clap and
  dance with your little ones in this interactive music class for ages 2-5.
 </p>
URL;VALUE=URI:https://events.getlocalhop.com/little-songbirds/event/GsunOp
 gAK2/
END:VEVENT
END:VCALENDAR